BEGIN:VCALENDAR
VERSION:2.0
PRODID:-//Christian Fellowship Church - ECPv6.15.16//NONSGML v1.0//EN
CALSCALE:GREGORIAN
METHOD:PUBLISH
X-WR-CALNAME:Christian Fellowship Church
X-ORIGINAL-URL:https://cfcnewholland.org
X-WR-CALDESC:Events for Christian Fellowship Church
REFRESH-INTERVAL;VALUE=DURATION:PT1H
X-Robots-Tag:noindex
X-PUBLISHED-TTL:PT1H
BEGIN:VTIMEZONE
TZID:America/New_York
BEGIN:DAYLIGHT
TZOFFSETFROM:-0500
TZOFFSETTO:-0400
TZNAME:EDT
DTSTART:20250309T070000
END:DAYLIGHT
BEGIN:STANDARD
TZOFFSETFROM:-0400
TZOFFSETTO:-0500
TZNAME:EST
DTSTART:20251102T060000
END:STANDARD
BEGIN:DAYLIGHT
TZOFFSETFROM:-0500
TZOFFSETTO:-0400
TZNAME:EDT
DTSTART:20260308T070000
END:DAYLIGHT
BEGIN:STANDARD
TZOFFSETFROM:-0400
TZOFFSETTO:-0500
TZNAME:EST
DTSTART:20261101T060000
END:STANDARD
BEGIN:DAYLIGHT
TZOFFSETFROM:-0500
TZOFFSETTO:-0400
TZNAME:EDT
DTSTART:20270314T070000
END:DAYLIGHT
BEGIN:STANDARD
TZOFFSETFROM:-0400
TZOFFSETTO:-0500
TZNAME:EST
DTSTART:20271107T060000
END:STANDARD
END:VTIMEZONE
BEGIN:VEVENT
DTSTART;TZID=America/New_York:20260304T130000
DTEND;TZID=America/New_York:20260304T143000
DTSTAMP:20260419T183337
CREATED:20260211T194828Z
LAST-MODIFIED:20260211T195019Z
UID:36009-1772629200-1772634600@cfcnewholland.org
SUMMARY:Praying Hearts - March 4
DESCRIPTION:Ladies\, please join us for a time of prayer and fellowship on Wednesday\, March 4 at 1PM
URL:https://cfcnewholland.org/event/praying-hearts-march-4
ATTACH;FMTTYPE=image/jpeg:https://cfcnewholland.org/wp-content/uploads/2026/02/praying_hearts_3.4-scaled.jpg
END:VEVENT
BEGIN:VEVENT
DTSTART;TZID=America/New_York:20260304T174500
DTEND;TZID=America/New_York:20260304T183000
DTSTAMP:20260419T183337
CREATED:20260210T185740Z
LAST-MODIFIED:20260217T191224Z
UID:35986-1772646300-1772649000@cfcnewholland.org
SUMMARY:Fellowship Meal March 4
DESCRIPTION:Join us for our next meal on Wednesday\, March 4 at 5:45PM. Menu: Baked ham\, candied sweet potatoes and buttered noodles\, green beans. For the kids: pizza rolls and applesauce. Dessert: Assorted pies and ice cream. Click to sign up.
URL:https://cfcnewholland.org/event/fellowship-meal-march-4
ATTACH;FMTTYPE=image/jpeg:https://cfcnewholland.org/wp-content/uploads/2026/02/fellowship_meal_march2026-scaled.jpg
END:VEVENT
BEGIN:VEVENT
DTSTART;TZID=America/New_York:20260305T060000
DTEND;TZID=America/New_York:20260305T060000
DTSTAMP:20260419T183337
CREATED:20260219T184415Z
LAST-MODIFIED:20260225T124915Z
UID:36155-1772690400-1772690400@cfcnewholland.org
SUMMARY:Men's Breakfast & Devotional - March 5
DESCRIPTION:CFC Men! Come check out our new Men’s Bible Study and enjoy a great meal at Yoder’s on Thursday\, Mar. 5 at 6AM. We’ll eat\, fellowship\, and open our Bibles as Pastor Doug leads us in our new study in Philippians. Invite a friend and join us!
URL:https://cfcnewholland.org/event/mens-breakfast-devotional-march-5
ATTACH;FMTTYPE=image/jpeg:https://cfcnewholland.org/wp-content/uploads/2026/02/men_bible_yoders_breakfast_philippians_2026-03-05-scaled.jpg
END:VEVENT
BEGIN:VEVENT
DTSTART;VALUE=DATE:20260306
DTEND;VALUE=DATE:20260309
DTSTAMP:20260419T183337
CREATED:20260113T180041Z
LAST-MODIFIED:20260113T180424Z
UID:35737-1772755200-1773014399@cfcnewholland.org
SUMMARY:Sr. High Snow Camp - March 6-8
DESCRIPTION:Don’t miss out on the Senior High Snow Camp at Word of Life\, March 6-8. Register by January 31st. Cost: $100 (Late registration – $150). For more information\, click to visit the student ministry page.
URL:https://cfcnewholland.org/event/sr-high-snow-camp-march-6-8
ATTACH;FMTTYPE=image/jpeg:https://cfcnewholland.org/wp-content/uploads/2026/01/12-scaled.jpg
END:VEVENT
BEGIN:VEVENT
DTSTART;VALUE=DATE:20260308
DTEND;VALUE=DATE:20260309
DTSTAMP:20260419T183337
CREATED:20260226T181725Z
LAST-MODIFIED:20260226T182443Z
UID:36196-1772928000-1773014399@cfcnewholland.org
SUMMARY:Daylight Savings Time - March 8
DESCRIPTION:Remember on Sunday\, March 8 to turn your clocks forward!
URL:https://cfcnewholland.org/event/daylight-savings-time-march-8
ATTACH;FMTTYPE=image/jpeg:https://cfcnewholland.org/wp-content/uploads/2026/02/Daylight-Savings-Time-2026-03-08-scaled.jpg
END:VEVENT
BEGIN:VEVENT
DTSTART;TZID=America/New_York:20260308T120000
DTEND;TZID=America/New_York:20260308T140000
DTSTAMP:20260419T183337
CREATED:20260211T194632Z
LAST-MODIFIED:20260212T133033Z
UID:36006-1772971200-1772978400@cfcnewholland.org
SUMMARY:Widows' Group Luncheon - March 8
DESCRIPTION:Ladies\, join us for lunch and a time of fellowship on Sunday\, March 8 at 12PM in Fellowship Hall.
URL:https://cfcnewholland.org/event/widows-group-luncheon-march-8
ATTACH;FMTTYPE=image/jpeg:https://cfcnewholland.org/wp-content/uploads/2026/02/Widows-Luncheon-March-2026-scaled.jpg
END:VEVENT
BEGIN:VEVENT
DTSTART;TZID=America/New_York:20260322T081500
DTEND;TZID=America/New_York:20260322T133000
DTSTAMP:20260419T183337
CREATED:20260218T165421Z
LAST-MODIFIED:20260218T171601Z
UID:36136-1774167300-1774186200@cfcnewholland.org
SUMMARY:Mission Focus Sunday & Luncheon
DESCRIPTION:Join us for Mission Focus Sunday on March 22. The guest speaker will be Dr. Paul Barreca\, Executive Director of Fellowship International Mission. He will be speaking about The Changing Face of Missions and How We Should Respond. There will be special combined Adult ABF’s in Fellowship Hall during each service. Following the third service we will have a luncheon with personal missionary updates. Click to sign up. Deadline to sign-up for the lunch is March 15th.
URL:https://cfcnewholland.org/event/missions-focus-sunday-luncheon
ATTACH;FMTTYPE=image/jpeg:https://cfcnewholland.org/wp-content/uploads/2026/02/Mission-Sunday-2026-No-link-1-scaled.jpg
END:VEVENT
BEGIN:VEVENT
DTSTART;TZID=America/New_York:20260325T183000
DTEND;TZID=America/New_York:20260325T203000
DTSTAMP:20260419T183337
CREATED:20260312T151449Z
LAST-MODIFIED:20260312T151537Z
UID:36288-1774463400-1774470600@cfcnewholland.org
SUMMARY:Jr. High Bowling - March 25
DESCRIPTION:Jr. High Students join us for bowling on Wednesday\, March 25 from 6:30PM-8:30PM. The cost is only $5. Sign up today and bring a friend! Pick up and drop off at CFC. Questions? Contact Jason Rohrbaugh.
URL:https://cfcnewholland.org/event/jr-high-bowling-march-25
ATTACH;FMTTYPE=image/jpeg:https://cfcnewholland.org/wp-content/uploads/2026/03/bowling-2026-slide-scaled.jpg
END:VEVENT
BEGIN:VEVENT
DTSTART;TZID=America/New_York:20260327T190000
DTEND;TZID=America/New_York:20260327T210000
DTSTAMP:20260419T183337
CREATED:20260303T155824Z
LAST-MODIFIED:20260303T155824Z
UID:36206-1774638000-1774645200@cfcnewholland.org
SUMMARY:Men's Game Night - Now on Fridays!
DESCRIPTION:Men – Join us on a new night of the week\, Friday\, March 27 at 7PM at CFC in the Fellowship Hall for board games and snacks. This is a great time of comradery while we get to compete playing games together.
URL:https://cfcnewholland.org/event/mens-game-night-now-on-fridays
ATTACH;FMTTYPE=image/jpeg:https://cfcnewholland.org/wp-content/uploads/2026/03/2026-03-26-Mens-Game-Night-scaled.jpg
END:VEVENT
BEGIN:VEVENT
DTSTART;TZID=America/New_York:20260329T121500
DTEND;TZID=America/New_York:20260329T140000
DTSTAMP:20260419T183337
CREATED:20260211T183108Z
LAST-MODIFIED:20260316T131753Z
UID:35992-1774786500-1774792800@cfcnewholland.org
SUMMARY:Celebration of Ministry Luncheon for Pastor Doug & Alicia Bozung - March 29
DESCRIPTION:This event is now full. If you would like to be added to the waitlist\, please email or call the office at 717-354-8428.\nWe hope you’ll plan to join us following our 10:45AM service on Sunday\, March 29th for a special Celebration of Ministry Luncheon for Pastor Doug and his wife\, Alicia. These two have honored the Lord\, honored our Church family\, and honored God’s Word through their time at Christian Fellowship Church. Words cannot express our desire to honor them as they make this transition!  We hope and pray you will join us as we celebrate these two. They have made the incredibly difficult decision to move to Colorado to be closer to their children and grandchildren. Let’s honor them as they go!  
URL:https://cfcnewholland.org/event/celebration
LOCATION:Christian Fellowship Church\, 758 Spruce Rd.\, New Holland\, PA\, 17557\, United States
CATEGORIES:family,kids,men,women,young adults,youth
ATTACH;FMTTYPE=image/jpeg:https://cfcnewholland.org/wp-content/uploads/2026/03/celebration-of-Ministry-Bozung-2026-New-rsvp-deadline-slide-scaled.jpg
ORGANIZER;CN="Church Office":MAILTO:cfc@cfcnewholland.org
END:VEVENT
END:VCALENDAR