BEGIN:VCALENDAR
VERSION:2.0
PRODID:-//Christian Fellowship Church - ECPv6.15.16//NONSGML v1.0//EN
CALSCALE:GREGORIAN
METHOD:PUBLISH
X-WR-CALNAME:Christian Fellowship Church
X-ORIGINAL-URL:https://cfcnewholland.org
X-WR-CALDESC:Events for Christian Fellowship Church
REFRESH-INTERVAL;VALUE=DURATION:PT1H
X-Robots-Tag:noindex
X-PUBLISHED-TTL:PT1H
BEGIN:VTIMEZONE
TZID:America/New_York
BEGIN:DAYLIGHT
TZOFFSETFROM:-0500
TZOFFSETTO:-0400
TZNAME:EDT
DTSTART:20230312T070000
END:DAYLIGHT
BEGIN:STANDARD
TZOFFSETFROM:-0400
TZOFFSETTO:-0500
TZNAME:EST
DTSTART:20231105T060000
END:STANDARD
BEGIN:DAYLIGHT
TZOFFSETFROM:-0500
TZOFFSETTO:-0400
TZNAME:EDT
DTSTART:20240310T070000
END:DAYLIGHT
BEGIN:STANDARD
TZOFFSETFROM:-0400
TZOFFSETTO:-0500
TZNAME:EST
DTSTART:20241103T060000
END:STANDARD
BEGIN:DAYLIGHT
TZOFFSETFROM:-0500
TZOFFSETTO:-0400
TZNAME:EDT
DTSTART:20250309T070000
END:DAYLIGHT
BEGIN:STANDARD
TZOFFSETFROM:-0400
TZOFFSETTO:-0500
TZNAME:EST
DTSTART:20251102T060000
END:STANDARD
END:VTIMEZONE
BEGIN:VEVENT
DTSTART;TZID=America/New_York:20240302T070000
DTEND;TZID=America/New_York:20240302T093000
DTSTAMP:20260421T192815
CREATED:20240208T151357Z
LAST-MODIFIED:20240208T152557Z
UID:31282-1709362800-1709371800@cfcnewholland.org
SUMMARY:Men's Breakfast\, Testimony\, & Tour
DESCRIPTION:Men’s Breakfast\, Testimony\, & Tour – Saturday\, March 2\, 7:00-9:30am \nJoin us for Breakfast at the Greenview Bible Camp Lodge.  Then we will be encouraged by a testimony from Kurt Good.  Following this\, we will then drive to nearby Good Farm & related businesses to learn more about how to honor the Lord in our business.  (Hog Buying Station\, Wash Bay\, Rotary Composters) \nEnjoy the Fellowship with other Men – Invite a Friend!\nRSVP by Feb 26 at www.cfcnewholland.org/men
URL:https://cfcnewholland.org/event/mensbreakfast
LOCATION:Greenview Bible Camp\, 520 Chapel Ln\, Denver\, PA\, 17517\, United States
CATEGORIES:men
ORGANIZER;CN="Dave Horst":MAILTO:horst@cfcnewholland.org
END:VEVENT
BEGIN:VEVENT
DTSTART;TZID=America/New_York:20240302T190000
DTEND;TZID=America/New_York:20240302T210000
DTSTAMP:20260421T192815
CREATED:20240219T182424Z
LAST-MODIFIED:20240219T182424Z
UID:31338-1709406000-1709413200@cfcnewholland.org
SUMMARY:Young Adults Volleyball Night
DESCRIPTION:Our Young Adults will meet up at Greenview Bible Camp on Saturday\, March 2 at 7PM for an evening of volleyball\, food\, and fun.  Youth\, YAS\, and Converge are all welcome to come out and be a part!
URL:https://cfcnewholland.org/event/volleyballnight
LOCATION:Greenview Bible Camp\, 520 Chapel Ln\, Denver\, PA\, 17517\, United States
CATEGORIES:young adults,youth
ORGANIZER;CN="Matt Meservy":MAILTO:meservy@cfcnewholland.org
END:VEVENT
BEGIN:VEVENT
DTSTART;TZID=America/New_York:20240306T183000
DTEND;TZID=America/New_York:20240306T203000
DTSTAMP:20260421T192815
CREATED:20240223T222808Z
LAST-MODIFIED:20240223T222830Z
UID:31360-1709749800-1709757000@cfcnewholland.org
SUMMARY:Jr High Bowling Night
DESCRIPTION:Calling all Jr. High!  Join our Student Ministries at a bowling event on Wednesday\, March 6th from 6:30 to 8:30PM.  Check out www.cfcnewholland.org/bowling for more information.
URL:https://cfcnewholland.org/event/bowling
LOCATION:Christian Fellowship Church\, 758 Spruce Rd.\, New Holland\, PA\, 17557\, United States
CATEGORIES:youth
ORGANIZER;CN="Jason Rohrbaugh":MAILTO:rohrbaugh@cfcnewholland.org
END:VEVENT
BEGIN:VEVENT
DTSTART;VALUE=DATE:20240316
DTEND;VALUE=DATE:20240318
DTSTAMP:20260421T192815
CREATED:20240102T180337Z
LAST-MODIFIED:20240312T115804Z
UID:30926-1710547200-1710719999@cfcnewholland.org
SUMMARY:Engaging Your Community With Confidence Seminar
DESCRIPTION:Join us for “Engaging Your Community With Confidence” at Christian Fellowship Church.  We will gather Saturday evening\, March 16th from 5:15PM to 8:15PM (pizza dinner included) as well as Sunday morning\, March 17th (during our normal service times).  We will have special guests Mark Farnham\, Jim Walton\, and members of Harvest USA speak to us on a myriad of subjects surrounding how we can defend our faith and live lives of influence for Christ in the midst of our culture. \nProposed Schedule (subject to change): \nSaturday Evening\, March 16th \n5:15 – 6:00 PM – Pizza Dinner FOR THOSE WHO SIGNED UP!\n6:00 – 7:00 PM – Mark Farnham presentation on “Strategies for Effective Apologetic Encounters”\n7:00 – 7:15 PM – Snack Break\n7:15 – 8:15 PM – Mark Farnham presentation on “How Eastern Religion has Infiltrated the West/Church” \nSunday Morning\, March 17th\n8:15\, 9:30\, & 10:45 AM – 3 Worship Services Mark Farnham on “Why We can be Confident in Engaging our Community”\n8:15 – 9:15 AM – Jim Walton ABF for adults on “Engaging the Next Generation”\n9:30 –10:30 AM – Harvest USA staff ABF for parents on “Raising Sexually-Faithful Kids”\n9:30 –10:30 AM – Jim Walton ABF for adults on “Engaging the Next Generation”\n9:30 –10:30 AM – Harvest USA staff ABF for youth/young adults on “Sex\, Lies and Culture”\n10:45 –11:45 AM – Jim Walton ABF for adults on “Engaging the Next Generation” \n 
URL:https://cfcnewholland.org/event/seminar
LOCATION:Christian Fellowship Church\, 758 Spruce Rd.\, New Holland\, PA\, 17557\, United States
CATEGORIES:family,men,women
ORGANIZER;CN="Church Office":MAILTO:cfc@cfcnewholland.org
END:VEVENT
BEGIN:VEVENT
DTSTART;TZID=America/New_York:20240321T060000
DTEND;TZID=America/New_York:20240321T070000
DTSTAMP:20260421T192815
CREATED:20240313T165606Z
LAST-MODIFIED:20240313T165606Z
UID:31469-1711000800-1711004400@cfcnewholland.org
SUMMARY:Men's Breakfast & Bible Study
DESCRIPTION:Men’s Breakfast & Bible Study\n\n\n\n\n1st & 3rd Thursday Mornings from 6AM to 7AM\nOur Schedule \n\n\n\n\nMar 21 – Biblical Challenge by Steve Rohrbaugh\nApr 4 – Just Ask Series 1 – Why We Don’t Pray\nApr 18 – Just Ask Series 2 – How to Pray\nMay 2 – National Day of Prayer Emphasis \nAll men are welcome!  Join us at Yoder’s Restaurant Banquet Room (14 S Tower Rd\, New Holland\, PA 17557) \nBreakfast is by donation. Registration is not required. Just show up ready to fellowship and learn! \nMore info on our series:  Do you run to prayer—or run away from it? How would you describe your prayer life? In this series\, we will learn how to overcome your hesitations and insecurities about praying. Pastor J.D. Greear will help us explore the way Jesus taught us to pray and how he approached prayer to his Father. See how Jesus encourages us to pray often\, boldly\, and with expectation.
URL:https://cfcnewholland.org/event/men
LOCATION:Yoder’s Banquet Hall\, 14 S. Tower Rd.\, New Holland\, PA\, 17557\, United States
CATEGORIES:men
ATTACH;FMTTYPE=image/jpeg:https://cfcnewholland.org/wp-content/uploads/2024/03/men_breakfast_greear-scaled.jpg
ORGANIZER;CN="Church Office":MAILTO:cfc@cfcnewholland.org
END:VEVENT
END:VCALENDAR