BEGIN:VCALENDAR
VERSION:2.0
PRODID:-//Christian Fellowship Church - ECPv6.15.16//NONSGML v1.0//EN
CALSCALE:GREGORIAN
METHOD:PUBLISH
X-ORIGINAL-URL:https://cfcnewholland.org
X-WR-CALDESC:Events for Christian Fellowship Church
REFRESH-INTERVAL;VALUE=DURATION:PT1H
X-Robots-Tag:noindex
X-PUBLISHED-TTL:PT1H
BEGIN:VTIMEZONE
TZID:America/New_York
BEGIN:DAYLIGHT
TZOFFSETFROM:-0500
TZOFFSETTO:-0400
TZNAME:EDT
DTSTART:20220313T070000
END:DAYLIGHT
BEGIN:STANDARD
TZOFFSETFROM:-0400
TZOFFSETTO:-0500
TZNAME:EST
DTSTART:20221106T060000
END:STANDARD
BEGIN:DAYLIGHT
TZOFFSETFROM:-0500
TZOFFSETTO:-0400
TZNAME:EDT
DTSTART:20230312T070000
END:DAYLIGHT
BEGIN:STANDARD
TZOFFSETFROM:-0400
TZOFFSETTO:-0500
TZNAME:EST
DTSTART:20231105T060000
END:STANDARD
BEGIN:DAYLIGHT
TZOFFSETFROM:-0500
TZOFFSETTO:-0400
TZNAME:EDT
DTSTART:20240310T070000
END:DAYLIGHT
BEGIN:STANDARD
TZOFFSETFROM:-0400
TZOFFSETTO:-0500
TZNAME:EST
DTSTART:20241103T060000
END:STANDARD
END:VTIMEZONE
BEGIN:VEVENT
DTSTART;TZID=America/New_York:20231011T174500
DTEND;TZID=America/New_York:20231011T200000
DTSTAMP:20260422T105242
CREATED:20231002T145213Z
LAST-MODIFIED:20231002T145213Z
UID:30391-1697046300-1697054400@cfcnewholland.org
SUMMARY:Fellowship Meal
DESCRIPTION:We hope you’ll join us at 5:45 pm on October 11 for our next Fellowship Meal.  All are welcome!  Let us know you can make it by going to: https://cfcnewholland.org/fellowshipmeal \nMenu:\nBaked Ham\nSeasoned Potatoes\nGreen Beans\nTossed Salad \nDessert: \nApple Crisp\nIce cream \nFor the kids: \nChicken Nuggets\nApplesauce \nJoin us following the meal for our Wednesday Night Clubs (Kids & Youth Ministry) and our Adult Prayer & Share time.
URL:https://cfcnewholland.org/event/fellowship-meal
LOCATION:Christian Fellowship Church\, 758 Spruce Rd.\, New Holland\, PA\, 17557\, United States
CATEGORIES:family,kids,men,women,young adults,youth
ORGANIZER;CN="Church Office":MAILTO:cfc@cfcnewholland.org
END:VEVENT
BEGIN:VEVENT
DTSTART;VALUE=DATE:20231014
DTEND;VALUE=DATE:20231016
DTSTAMP:20260422T105242
CREATED:20231003T145453Z
LAST-MODIFIED:20231003T145453Z
UID:30409-1697241600-1697414399@cfcnewholland.org
SUMMARY:Student Ministries "Connect Retreat"
DESCRIPTION:Details: \n\n\n\n\nWhen:  Saturday morning October 14th to Sunday morning October 15th \nWhere:  Onsite at CFC\, overnight at host families\, and various offsite activities \nWho:  Grades 7-12 \nCost:  $30/person (via Cash or Check to CFC or online – select “Give” in the upper righthand corner\, and give to “Youth Retreat” with the student’s name in the note section). \n\nLearn More & RSVP: https://cfcnewholland.org/student-ministry-seniorhigh-retreat
URL:https://cfcnewholland.org/event/student-ministries-connect-retreat
LOCATION:Christian Fellowship Church\, 758 Spruce Rd.\, New Holland\, PA\, 17557\, United States
CATEGORIES:youth
ORGANIZER;CN="Jason Rohrbaugh":MAILTO:rohrbaugh@cfcnewholland.org
END:VEVENT
BEGIN:VEVENT
DTSTART;TZID=America/New_York:20231019T060000
DTEND;TZID=America/New_York:20231019T070000
DTSTAMP:20260422T105242
CREATED:20231002T145435Z
LAST-MODIFIED:20231016T143914Z
UID:30393-1697695200-1697698800@cfcnewholland.org
SUMMARY:Men's Breakfast & Bible Study
DESCRIPTION:1st & 3rd Thursday Mornings from 6AM to 7AM\nOct. 5\, Oct 19\, Nov. 2 & Nov. 16 \nJoin us at Yoder’s Restaurant Banquest Room (14 S Tower Rd\, New Holland\, PA 17557) for “Overcomer” by Dr. David Jeremiah. In this study\, we’ll explore what God provides for believers in Ephesians 6:10-18 and learn how to persevere from a place of victory in Christ. \nBreakfast is free\, but donations are welcome. Registration is not required. Just show up ready to fellowship and learn! \nStudy Leaders: Mark Good\, Dave Horst & Lee Shaffer
URL:https://cfcnewholland.org/event/mens-breakfast-bible-study-3
LOCATION:Yoder’s Banquet Hall\, 14 S. Tower Rd.\, New Holland\, PA\, 17557\, United States
CATEGORIES:men
ORGANIZER;CN="Dave Horst":MAILTO:horst@cfcnewholland.org
END:VEVENT
BEGIN:VEVENT
DTSTART;TZID=America/New_York:20231025T080000
DTEND;TZID=America/New_York:20231025T170000
DTSTAMP:20260422T105242
CREATED:20231025T164806Z
LAST-MODIFIED:20231025T164814Z
UID:30517-1698220800-1698253200@cfcnewholland.org
SUMMARY:Jr. High SkyZone Night
DESCRIPTION:If you are in 7th or 8th grade (or have teens in that age group)\, we’d love to have you join us for our Jr. High SkyZone Night!  We’ll meet at CFC at 6:15PM and return to CFC at 8:45PM.  The cost for this event is $10 per student.  Please register at: www.cfcnewholland.org/student-ministries.
URL:https://cfcnewholland.org/event/skyzone
LOCATION:Christian Fellowship Church\, 758 Spruce Rd.\, New Holland\, PA\, 17557\, United States
CATEGORIES:youth
ORGANIZER;CN="Jason Rohrbaugh":MAILTO:rohrbaugh@cfcnewholland.org
END:VEVENT
BEGIN:VEVENT
DTSTART;TZID=America/New_York:20231030T190000
DTEND;TZID=America/New_York:20231030T200000
DTSTAMP:20260422T105242
CREATED:20231002T151653Z
LAST-MODIFIED:20231030T175159Z
UID:30396-1698692400-1698696000@cfcnewholland.org
SUMMARY:Men's Monday Night - Bible Study & Discussion
DESCRIPTION:Mondays from 7PM to 8PM in the CFC Fellowship Hall. \nWe hope you’ll join us for “The Power of the Holy Spirit’s Names” as we learn how the indwelling of the Holy Spirit shapes our faith.  We’ll examine six Biblical titles of the Spirit: Helper\, Lord\, Wine\, Intercessor\, Seal\, and Power. \nStudy Leaders: Dave Horst & Duane Miller \nWhile registration isn’t required to attend\, it would be helpful as we prepare.  Please let us know if you’ll be attending by filling out below:
URL:https://cfcnewholland.org/event/mens-monday-night-bible-study-discussion
LOCATION:Christian Fellowship Church\, 758 Spruce Rd.\, New Holland\, PA\, 17557\, United States
CATEGORIES:men
ORGANIZER;CN="Dave Horst":MAILTO:horst@cfcnewholland.org
END:VEVENT
BEGIN:VEVENT
DTSTART;VALUE=DATE:20231031
DTEND;VALUE=DATE:20231101
DTSTAMP:20260422T105242
CREATED:20231002T154615Z
LAST-MODIFIED:20231030T175400Z
UID:30398-1698710400-1698796799@cfcnewholland.org
SUMMARY:Ladies Bible Study - When You Pray
DESCRIPTION:Tuesdays – 9am-10:30am or 7pm-8:30pm\nin the Adult Learning Center\nKelly Minter and a variety of beloved speakers who will help guide us through studying God’s word. Prayers is the way we relate to God\, but sometimes it’s a struggle! Join with us as we learn and grow together. \nCoffee\, tea and fellowship included at each session.  RSVP at www.cfcnewholland.org/ladiesbiblestudy
URL:https://cfcnewholland.org/event/ladies-bible-study-when-you-pray
LOCATION:Christian Fellowship Church\, 758 Spruce Rd.\, New Holland\, PA\, 17557\, United States
CATEGORIES:women
ORGANIZER;CN="Church Office":MAILTO:cfc@cfcnewholland.org
END:VEVENT
END:VCALENDAR