BEGIN:VCALENDAR
VERSION:2.0
PRODID:-//Christian Fellowship Church - ECPv6.15.16//NONSGML v1.0//EN
CALSCALE:GREGORIAN
METHOD:PUBLISH
X-WR-CALNAME:Christian Fellowship Church
X-ORIGINAL-URL:https://cfcnewholland.org
X-WR-CALDESC:Events for Christian Fellowship Church
REFRESH-INTERVAL;VALUE=DURATION:PT1H
X-Robots-Tag:noindex
X-PUBLISHED-TTL:PT1H
BEGIN:VTIMEZONE
TZID:America/New_York
BEGIN:DAYLIGHT
TZOFFSETFROM:-0500
TZOFFSETTO:-0400
TZNAME:EDT
DTSTART:20220313T070000
END:DAYLIGHT
BEGIN:STANDARD
TZOFFSETFROM:-0400
TZOFFSETTO:-0500
TZNAME:EST
DTSTART:20221106T060000
END:STANDARD
BEGIN:DAYLIGHT
TZOFFSETFROM:-0500
TZOFFSETTO:-0400
TZNAME:EDT
DTSTART:20230312T070000
END:DAYLIGHT
BEGIN:STANDARD
TZOFFSETFROM:-0400
TZOFFSETTO:-0500
TZNAME:EST
DTSTART:20231105T060000
END:STANDARD
BEGIN:DAYLIGHT
TZOFFSETFROM:-0500
TZOFFSETTO:-0400
TZNAME:EDT
DTSTART:20240310T070000
END:DAYLIGHT
BEGIN:STANDARD
TZOFFSETFROM:-0400
TZOFFSETTO:-0500
TZNAME:EST
DTSTART:20241103T060000
END:STANDARD
END:VTIMEZONE
BEGIN:VEVENT
DTSTART;TZID=America/New_York:20230813T093000
DTEND;TZID=America/New_York:20230813T103000
DTSTAMP:20260422T135422
CREATED:20230718T193535Z
LAST-MODIFIED:20230718T193535Z
UID:29758-1691919000-1691922600@cfcnewholland.org
SUMMARY:Connect Sunday - Student Ministry & Young Adult Singles
DESCRIPTION:Our Student Ministries and our Young Adult Singles group will combine on Sunday\, August 13th!  The purpose will be to encourage the Youth who will be joining the YAS group in the fall as well as to exhort our YAS group to serve and care for those who are coming up in the future.
URL:https://cfcnewholland.org/event/connectsunday
LOCATION:Christian Fellowship Church\, 758 Spruce Rd.\, New Holland\, PA\, 17557\, United States
CATEGORIES:young adults,youth
ATTACH;FMTTYPE=image/jpeg:https://cfcnewholland.org/wp-content/uploads/2023/07/connect_sunday-scaled.jpg
ORGANIZER;CN="Matt Meservy":MAILTO:meservy@cfcnewholland.org
END:VEVENT
BEGIN:VEVENT
DTSTART;TZID=America/New_York:20230820T170000
DTEND;TZID=America/New_York:20230820T203000
DTSTAMP:20260422T135422
CREATED:20230613T121133Z
LAST-MODIFIED:20230613T124227Z
UID:29569-1692550800-1692563400@cfcnewholland.org
SUMMARY:Student Ministry Pond Party
DESCRIPTION:On August 20th we will have our annual Pond Party at Larry and Sally Martin’s Pond for Jr and Sr High! All upcoming 7th graders through graduating 12th graders are welcome. Join us for swimming\, good food\, fellowship\, and a visit from the Lickity Split ice cream truck!
URL:https://cfcnewholland.org/event/student-ministry-pond-party
LOCATION:Martin’s Pond
ORGANIZER;CN="Jason Rohrbaugh":MAILTO:rohrbaugh@cfcnewholland.org
END:VEVENT
END:VCALENDAR