BEGIN:VCALENDAR
VERSION:2.0
PRODID:-//Christian Fellowship Church - ECPv6.15.16//NONSGML v1.0//EN
CALSCALE:GREGORIAN
METHOD:PUBLISH
X-ORIGINAL-URL:https://cfcnewholland.org
X-WR-CALDESC:Events for Christian Fellowship Church
REFRESH-INTERVAL;VALUE=DURATION:PT1H
X-Robots-Tag:noindex
X-PUBLISHED-TTL:PT1H
BEGIN:VTIMEZONE
TZID:America/New_York
BEGIN:DAYLIGHT
TZOFFSETFROM:-0500
TZOFFSETTO:-0400
TZNAME:EDT
DTSTART:20220313T070000
END:DAYLIGHT
BEGIN:STANDARD
TZOFFSETFROM:-0400
TZOFFSETTO:-0500
TZNAME:EST
DTSTART:20221106T060000
END:STANDARD
BEGIN:DAYLIGHT
TZOFFSETFROM:-0500
TZOFFSETTO:-0400
TZNAME:EDT
DTSTART:20230312T070000
END:DAYLIGHT
BEGIN:STANDARD
TZOFFSETFROM:-0400
TZOFFSETTO:-0500
TZNAME:EST
DTSTART:20231105T060000
END:STANDARD
BEGIN:DAYLIGHT
TZOFFSETFROM:-0500
TZOFFSETTO:-0400
TZNAME:EDT
DTSTART:20240310T070000
END:DAYLIGHT
BEGIN:STANDARD
TZOFFSETFROM:-0400
TZOFFSETTO:-0500
TZNAME:EST
DTSTART:20241103T060000
END:STANDARD
END:VTIMEZONE
BEGIN:VEVENT
DTSTART;VALUE=DATE:20230625
DTEND;VALUE=DATE:20230702
DTSTAMP:20260422T153558
CREATED:20230502T124201Z
LAST-MODIFIED:20230524T133911Z
UID:29372-1687651200-1688255999@cfcnewholland.org
SUMMARY:Sr. Youth Missions Trip - Belize
DESCRIPTION:Please be praying for our Youth Ministry as they serve in Belize! \nSummer Missions 2023 \nWHO: 9th through 12th graders \nWHEN: Sunday\, June 25th – Saturday\, July 1st 2023 \nWHAT: Light construction\, youth programs\, community development\, potentially outreach initiatives. \nLEARN MORE: https://cfcnewholland.org/belize
URL:https://cfcnewholland.org/event/youthmissions
LOCATION:Christian Fellowship Church\, 758 Spruce Rd.\, New Holland\, PA\, 17557\, United States
CATEGORIES:young adults,youth
ORGANIZER;CN="Jason Rohrbaugh":MAILTO:rohrbaugh@cfcnewholland.org
END:VEVENT
BEGIN:VEVENT
DTSTART;TZID=America/New_York:20230702T104500
DTEND;TZID=America/New_York:20230702T120000
DTSTAMP:20260422T153558
CREATED:20230516T183136Z
LAST-MODIFIED:20230516T183136Z
UID:29432-1688294700-1688299200@cfcnewholland.org
SUMMARY:Worship In The Park - New Holland Park
DESCRIPTION:On July 2nd\, in lieu of our typical Sunday morning at CFC we will meet at New Holland Park pavilion for a 10:45AM service followed by lunch.  We hope you will join us for this fun opportunity to worship together!  All are welcome!
URL:https://cfcnewholland.org/event/worship-in-the-park-new-holland-park
LOCATION:New Holland Park\, 400-498 E Jackson St\, New Holland\, PA\, 17557\, United States
CATEGORIES:family,kids,men,women,young adults,youth
ORGANIZER;CN="Church Office":MAILTO:cfc@cfcnewholland.org
END:VEVENT
BEGIN:VEVENT
DTSTART;VALUE=DATE:20230709
DTEND;VALUE=DATE:20230710
DTSTAMP:20260422T153558
CREATED:20230706T154557Z
LAST-MODIFIED:20230706T154557Z
UID:29693-1688860800-1688947199@cfcnewholland.org
SUMMARY:Communion Sunday
DESCRIPTION:Join us this Sunday at CFC for a special time of reflection as we take communion together as a church body.  We’ll gather this Sunday at 8:15\, 9:30\, and 10:45AM and we’ll partake at each service.
URL:https://cfcnewholland.org/event/communion-sunday
LOCATION:Christian Fellowship Church\, 758 Spruce Rd.\, New Holland\, PA\, 17557\, United States
CATEGORIES:family
ATTACH;FMTTYPE=image/jpeg:https://cfcnewholland.org/wp-content/uploads/2023/07/communion-title-1-Wide-16x9-1.jpeg
ORGANIZER;CN="Church Office":MAILTO:cfc@cfcnewholland.org
END:VEVENT
BEGIN:VEVENT
DTSTART;VALUE=DATE:20230716
DTEND;VALUE=DATE:20230717
DTSTAMP:20260422T153558
CREATED:20230614T002138Z
LAST-MODIFIED:20230626T192122Z
UID:29582-1689465600-1689551999@cfcnewholland.org
SUMMARY:Guess Who's Coming To Dinner
DESCRIPTION:Get to know other families in the CFC community!  The concept is that hosts will provide the main dish with all those signing up providing sides. \nGuess Who’s Coming To Dinner will be held at various houses around New Holland on Sunday evening\, July 16th. \nRegistration is now closed. For questions\, please contact the church office.
URL:https://cfcnewholland.org/event/dinner
LOCATION:Christian Fellowship Church\, 758 Spruce Rd.\, New Holland\, PA\, 17557\, United States
CATEGORIES:family,men,women
END:VEVENT
END:VCALENDAR