BEGIN:VCALENDAR
VERSION:2.0
PRODID:-//Christian Fellowship Church - ECPv6.15.16//NONSGML v1.0//EN
CALSCALE:GREGORIAN
METHOD:PUBLISH
X-WR-CALNAME:Christian Fellowship Church
X-ORIGINAL-URL:https://cfcnewholland.org
X-WR-CALDESC:Events for Christian Fellowship Church
REFRESH-INTERVAL;VALUE=DURATION:PT1H
X-Robots-Tag:noindex
X-PUBLISHED-TTL:PT1H
BEGIN:VTIMEZONE
TZID:America/New_York
BEGIN:DAYLIGHT
TZOFFSETFROM:-0500
TZOFFSETTO:-0400
TZNAME:EDT
DTSTART:20220313T070000
END:DAYLIGHT
BEGIN:STANDARD
TZOFFSETFROM:-0400
TZOFFSETTO:-0500
TZNAME:EST
DTSTART:20221106T060000
END:STANDARD
BEGIN:DAYLIGHT
TZOFFSETFROM:-0500
TZOFFSETTO:-0400
TZNAME:EDT
DTSTART:20230312T070000
END:DAYLIGHT
BEGIN:STANDARD
TZOFFSETFROM:-0400
TZOFFSETTO:-0500
TZNAME:EST
DTSTART:20231105T060000
END:STANDARD
BEGIN:DAYLIGHT
TZOFFSETFROM:-0500
TZOFFSETTO:-0400
TZNAME:EDT
DTSTART:20240310T070000
END:DAYLIGHT
BEGIN:STANDARD
TZOFFSETFROM:-0400
TZOFFSETTO:-0500
TZNAME:EST
DTSTART:20241103T060000
END:STANDARD
END:VTIMEZONE
BEGIN:VEVENT
DTSTART;TZID=America/New_York:20230503T190000
DTEND;TZID=America/New_York:20230503T203000
DTSTAMP:20260422T200149
CREATED:20230502T123654Z
LAST-MODIFIED:20230502T123654Z
UID:29370-1683140400-1683145800@cfcnewholland.org
SUMMARY:Survey of Church History - Men's Study
DESCRIPTION:Each month\, on your own\, you will watch “Survey of Church History” by Robert Godfrey on RightNow Media (4 to 5\, 24-minute videos) in preparation for the monthly meetings to discuss what you watched. \nMonthly meetings will be Wednesdays\, 7-8pm (mostly 1st Weds.) at the church. Pastor Dave will be leading this group of men. \nThe 1st monthly meeting is May 3 at 7:00 pm and will continue to Dec 6.
URL:https://cfcnewholland.org/event/survey-of-church-history-mens-study
LOCATION:Christian Fellowship Church\, 758 Spruce Rd.\, New Holland\, PA\, 17557\, United States
CATEGORIES:men
ORGANIZER;CN="Dave Horst":MAILTO:horst@cfcnewholland.org
END:VEVENT
BEGIN:VEVENT
DTSTART;TZID=America/New_York:20230518T060000
DTEND;TZID=America/New_York:20230518T070000
DTSTAMP:20260422T200149
CREATED:20230413T151127Z
LAST-MODIFIED:20230509T141253Z
UID:29294-1684389600-1684393200@cfcnewholland.org
SUMMARY:Be A Godly Man - Men's Breakfast & Bible Study
DESCRIPTION:April 20\, May 4 & 18\, June 1 & 15\nJoin us at Yoder’s Restaurant in New Holland from 6AM – 7AM for a 5-part video series. \n“Be A Godly Man” by Joby Martin (donation for breakfast). \nGod has created men to have incredible strength\, but today’s culture has hijacked masculinity. In this Bible study series\, Joby Martin invites men to embrace God’s definition of masculinity & to step into His calling on their lives.
URL:https://cfcnewholland.org/event/be-a-godly-man-mens-breakfast-bible-study
LOCATION:Yoder’s Banquet Hall\, 14 S. Tower Rd.\, New Holland\, PA\, 17557\, United States
CATEGORIES:men
ORGANIZER;CN="Dave Horst":MAILTO:horst@cfcnewholland.org
END:VEVENT
BEGIN:VEVENT
DTSTART;TZID=America/New_York:20230521T080000
DTEND;TZID=America/New_York:20230521T170000
DTSTAMP:20260422T200149
CREATED:20230515T134530Z
LAST-MODIFIED:20230515T135222Z
UID:29424-1684656000-1684688400@cfcnewholland.org
SUMMARY:YAS - Pizza & Putt-Putt
DESCRIPTION:Join us after church this Sunday as we grab some pizza and then head to the best putt-putt in the area!  Email Pastor Matt Meservy for more information.
URL:https://cfcnewholland.org/event/puttputt
LOCATION:Christian Fellowship Church\, 758 Spruce Rd.\, New Holland\, PA\, 17557\, United States
CATEGORIES:young adults
ORGANIZER;CN="Matt Meservy":MAILTO:meservy@cfcnewholland.org
END:VEVENT
END:VCALENDAR