BEGIN:VCALENDAR
VERSION:2.0
PRODID:-//Christian Fellowship Church - ECPv6.15.16//NONSGML v1.0//EN
CALSCALE:GREGORIAN
METHOD:PUBLISH
X-ORIGINAL-URL:https://cfcnewholland.org
X-WR-CALDESC:Events for Christian Fellowship Church
REFRESH-INTERVAL;VALUE=DURATION:PT1H
X-Robots-Tag:noindex
X-PUBLISHED-TTL:PT1H
BEGIN:VTIMEZONE
TZID:America/New_York
BEGIN:DAYLIGHT
TZOFFSETFROM:-0500
TZOFFSETTO:-0400
TZNAME:EDT
DTSTART:20220313T070000
END:DAYLIGHT
BEGIN:STANDARD
TZOFFSETFROM:-0400
TZOFFSETTO:-0500
TZNAME:EST
DTSTART:20221106T060000
END:STANDARD
BEGIN:DAYLIGHT
TZOFFSETFROM:-0500
TZOFFSETTO:-0400
TZNAME:EDT
DTSTART:20230312T070000
END:DAYLIGHT
BEGIN:STANDARD
TZOFFSETFROM:-0400
TZOFFSETTO:-0500
TZNAME:EST
DTSTART:20231105T060000
END:STANDARD
BEGIN:DAYLIGHT
TZOFFSETFROM:-0500
TZOFFSETTO:-0400
TZNAME:EDT
DTSTART:20240310T070000
END:DAYLIGHT
BEGIN:STANDARD
TZOFFSETFROM:-0400
TZOFFSETTO:-0500
TZNAME:EST
DTSTART:20241103T060000
END:STANDARD
END:VTIMEZONE
BEGIN:VEVENT
DTSTART;TZID=America/New_York:20230402T140000
DTEND;TZID=America/New_York:20230402T170000
DTSTAMP:20260422T214625
CREATED:20230208T213217Z
LAST-MODIFIED:20230322T151556Z
UID:28860-1680444000-1680454800@cfcnewholland.org
SUMMARY:The Easter Journey
DESCRIPTION:Join us as we look forward to Easter Sunday for “The Easter Journey”!  This will be an interactive time geared towards the whole family.  Your family will traverse through a number of interactive stations meant to draw your mind and heart towards what Jesus did for us.  We plan to have live actors\, live music\, interactive artwork\, and age-appropriate elements geared towards both children and adults. \nThe Easter Journey will be held on Sunday\, April 2nd (Palm Sunday) at Christian Fellowship Church (758 Spruce Rd. New Holland\, PA).  The journey should take between 30-45 minutes to complete and you can show up anytime between 2pm and 5pm.  Please enter at our main entrance. \nWe can’t wait to see the whole family!
URL:https://cfcnewholland.org/event/the-easter-journey
LOCATION:Christian Fellowship Church\, 758 Spruce Rd.\, New Holland\, PA\, 17557\, United States
CATEGORIES:family,kids,men,women,young adults,youth
ORGANIZER;CN="Julie Myers":MAILTO:childrensmin@cfcnewholland.org
END:VEVENT
BEGIN:VEVENT
DTSTART;TZID=America/New_York:20230405T174500
DTEND;TZID=America/New_York:20230405T183000
DTSTAMP:20260422T214625
CREATED:20220810T182407Z
LAST-MODIFIED:20230405T133044Z
UID:27401-1680716700-1680719400@cfcnewholland.org
SUMMARY:CFC Fellowship Meal
DESCRIPTION:Our next Fellowship Meal will be \nApril 5th at 5:45 pm\n \nPlease Sign-Up at: https://cfcnewholland.org/fellowshipmeal \nMenu: \nGlazed Ham Balls \nSweet Potato Casserole \nMixed Vegetables \nTossed Salad \nFor the Kids: \nChicken Nuggets \nApplesauce \nDessert: \nAssorted Pies \nCookies
URL:https://cfcnewholland.org/event/cfc-fellowship-meal
LOCATION:Christian Fellowship Church\, 758 Spruce Rd.\, New Holland\, PA\, 17557\, United States
CATEGORIES:family
ORGANIZER;CN="Church Office":MAILTO:cfc@cfcnewholland.org
END:VEVENT
BEGIN:VEVENT
DTSTART;TZID=America/New_York:20230406T060000
DTEND;TZID=America/New_York:20230406T070000
DTSTAMP:20260422T214625
CREATED:20220804T215412Z
LAST-MODIFIED:20230325T143038Z
UID:27328-1680760800-1680764400@cfcnewholland.org
SUMMARY:Men's Breakfast & Bible Study
DESCRIPTION:Location: Yoder’s Banquet Hall (14 S. Tower Rd\, New Holland\, PA 17557) \nTime: April 6th @ 6:00 am \nMen\, join us as we eat breakfast together and learn from the Bible!  Please bring a donation for breakfast plus enjoy fellowship & study with other men of all ages! Bring a friend – this group is open to everyone. No sign-up required. \nQuestions: Email: Pastor Dave at horst@cfcnewholland.org.
URL:https://cfcnewholland.org/event/mens-breakfast-bible-study
LOCATION:Yoder’s Banquet Hall\, 14 S. Tower Rd.\, New Holland\, PA\, 17557\, United States
CATEGORIES:men
ATTACH;FMTTYPE=image/jpeg:https://cfcnewholland.org/wp-content/uploads/2022/08/18MensBreakfast_WebEvent-1.jpeg
ORGANIZER;CN="Dave Horst":MAILTO:horst@cfcnewholland.org
END:VEVENT
BEGIN:VEVENT
DTSTART;TZID=America/New_York:20230407T190000
DTEND;TZID=America/New_York:20230407T200000
DTSTAMP:20260422T214625
CREATED:20230403T163422Z
LAST-MODIFIED:20230403T163422Z
UID:29207-1680894000-1680897600@cfcnewholland.org
SUMMARY:Good Friday
DESCRIPTION:Good Friday Service – 7PM on Friday\, April 7th in the sanctuary.  This service will be for reflection and response to the love that drove Jesus to the Cross.  Come experience the power of the cross\, dynamically\, and personally by prayer\, song\, and the spoken word of God that will guide us to a deep understanding of what happened at Golgotha many years ago.
URL:https://cfcnewholland.org/event/good-friday
LOCATION:Christian Fellowship Church\, 758 Spruce Rd.\, New Holland\, PA\, 17557\, United States
CATEGORIES:family,kids,men,women,young adults,youth
ORGANIZER;CN="Matt Trego":MAILTO:trego@cfcnewholland.org
END:VEVENT
BEGIN:VEVENT
DTSTART;TZID=America/New_York:20230414T174500
DTEND;TZID=America/New_York:20230415T143000
DTSTAMP:20260422T214625
CREATED:20230313T200054Z
LAST-MODIFIED:20230327T190756Z
UID:29074-1681494300-1681569000@cfcnewholland.org
SUMMARY:Hope For The Journey Conference
DESCRIPTION:Show Hope’s Hope for the Journey Conference (formerly the Empowered to Connect Conference) is designed to encourage and equip parents and caregivers meeting the everyday needs of children impacted by adoption and/or foster care. The conference is also a much-needed resource for churches\, agencies\, and organizations in their care and support of the families and communities they serve. Coming to Christian Fellowship Church! Friday Evening – April 14 – 5:45PM Saturday Morning – April 15 – 8:45AM *Lunch will be provided on Saturday!* Click here to register.
URL:https://cfcnewholland.org/event/hope
LOCATION:Christian Fellowship Church\, 758 Spruce Rd.\, New Holland\, PA\, 17557\, United States
CATEGORIES:family,men,women
ATTACH;FMTTYPE=image/jpeg:https://cfcnewholland.org/wp-content/uploads/2023/02/hope_journey_slide2-copy-scaled.jpg
ORGANIZER;CN="Dave Horst":MAILTO:horst@cfcnewholland.org
END:VEVENT
BEGIN:VEVENT
DTSTART;TZID=America/New_York:20230420T090000
DTEND;TZID=America/New_York:20230420T110000
DTSTAMP:20260422T214625
CREATED:20220908T222841Z
LAST-MODIFIED:20230411T123535Z
UID:27734-1681981200-1681988400@cfcnewholland.org
SUMMARY:Moments for Moms
DESCRIPTION:A ministry for mothers of young children to encourage\, equip\, teach and provide an environment for fellowship\, friendship and sharing. Childcare is provided!
URL:https://cfcnewholland.org/event/moments-for-moms
LOCATION:Christian Fellowship Church\, 758 Spruce Rd.\, New Holland\, PA\, 17557\, United States
CATEGORIES:women
END:VEVENT
BEGIN:VEVENT
DTSTART;TZID=America/New_York:20230429T073000
DTEND;TZID=America/New_York:20230429T100000
DTSTAMP:20260422T214625
CREATED:20230325T142905Z
LAST-MODIFIED:20230329T130229Z
UID:29140-1682753400-1682762400@cfcnewholland.org
SUMMARY:Men's Breakfast & Testimonies (w/ Optional Service Project)
DESCRIPTION:Saturday\, April 29 at 7:30 am at Greenview Bible Camp (520 Chapel Ln. Denver\, PA)\nEnjoy a hearty breakfast at the Greenview Lodge and testimony by Dr. Wolfram Andrews. Please bring a $10 donation for breakfast. \nAfter breakfast\, we invite you to stay for an optional service project opportunity to be completed by noon. \nTo RSVP: www.cfcnewholland.org/men
URL:https://cfcnewholland.org/event/mens-breakfast-testimonies-w-optional-service-project
LOCATION:Greenview Bible Camp\, 520 Chapel Ln\, Denver\, PA\, 17517\, United States
CATEGORIES:men
ORGANIZER;CN="Dave Horst":MAILTO:horst@cfcnewholland.org
END:VEVENT
BEGIN:VEVENT
DTSTART;VALUE=DATE:20230430
DTEND;VALUE=DATE:20230501
DTSTAMP:20260422T214625
CREATED:20230403T165431Z
LAST-MODIFIED:20230403T165431Z
UID:29210-1682812800-1682899199@cfcnewholland.org
SUMMARY:Parent/Child Dedication
DESCRIPTION:Our next parent-child dedication will be Sunday\, April 30th.  Please contact Pastor Dave (horst@cfcnewholland.org) to explore this opportunity to publicly commit to raise your child in a Christian home.
URL:https://cfcnewholland.org/event/dedication
LOCATION:Christian Fellowship Church\, 758 Spruce Rd.\, New Holland\, PA\, 17557\, United States
CATEGORIES:family
ATTACH;FMTTYPE=image/jpeg:https://cfcnewholland.org/wp-content/uploads/2023/04/parent_child_dedication-copy-scaled.jpg
ORGANIZER;CN="Dave Horst":MAILTO:horst@cfcnewholland.org
END:VEVENT
BEGIN:VEVENT
DTSTART;TZID=America/New_York:20230430T093000
DTEND;TZID=America/New_York:20230430T103000
DTSTAMP:20260422T214625
CREATED:20230403T204222Z
LAST-MODIFIED:20230410T114257Z
UID:29217-1682847000-1682850600@cfcnewholland.org
SUMMARY:Student Ministries - Mission Fundraiser Breakfast
DESCRIPTION:Come out to CFC on Sunday\, April 30th for our Student Ministries Mission Fundraiser Breakfast.  On your way to service or to your Adult Bible Fellowship\, make sure to stop by our gym for some good food\, fun\, and the opportunity to support our youth in missions.
URL:https://cfcnewholland.org/event/student-ministries-mission-fundraiser-breakfast
LOCATION:Christian Fellowship Church\, 758 Spruce Rd.\, New Holland\, PA\, 17557\, United States
CATEGORIES:family,youth
ORGANIZER;CN="Jason Rohrbaugh":MAILTO:rohrbaugh@cfcnewholland.org
END:VEVENT
END:VCALENDAR