BEGIN:VCALENDAR
VERSION:2.0
PRODID:-//Christian Fellowship Church - ECPv6.15.16//NONSGML v1.0//EN
CALSCALE:GREGORIAN
METHOD:PUBLISH
X-ORIGINAL-URL:https://cfcnewholland.org
X-WR-CALDESC:Events for Christian Fellowship Church
REFRESH-INTERVAL;VALUE=DURATION:PT1H
X-Robots-Tag:noindex
X-PUBLISHED-TTL:PT1H
BEGIN:VTIMEZONE
TZID:America/New_York
BEGIN:DAYLIGHT
TZOFFSETFROM:-0500
TZOFFSETTO:-0400
TZNAME:EDT
DTSTART:20220313T070000
END:DAYLIGHT
BEGIN:STANDARD
TZOFFSETFROM:-0400
TZOFFSETTO:-0500
TZNAME:EST
DTSTART:20221106T060000
END:STANDARD
BEGIN:DAYLIGHT
TZOFFSETFROM:-0500
TZOFFSETTO:-0400
TZNAME:EDT
DTSTART:20230312T070000
END:DAYLIGHT
BEGIN:STANDARD
TZOFFSETFROM:-0400
TZOFFSETTO:-0500
TZNAME:EST
DTSTART:20231105T060000
END:STANDARD
BEGIN:DAYLIGHT
TZOFFSETFROM:-0500
TZOFFSETTO:-0400
TZNAME:EDT
DTSTART:20240310T070000
END:DAYLIGHT
BEGIN:STANDARD
TZOFFSETFROM:-0400
TZOFFSETTO:-0500
TZNAME:EST
DTSTART:20241103T060000
END:STANDARD
END:VTIMEZONE
BEGIN:VEVENT
DTSTART;TZID=America/New_York:20230215T134500
DTEND;TZID=America/New_York:20230215T151500
DTSTAMP:20260423T005634
CREATED:20230208T002247Z
LAST-MODIFIED:20230208T002247Z
UID:28856-1676468700-1676474100@cfcnewholland.org
SUMMARY:Family Valentine's Party
DESCRIPTION:Mountain Movers Family Valentine’s Day Party \nWednesday\, February 15th // 6:45-8:15PM \nJoin us for a night to celebrate God’s love for us\, and give us an opportunity to show love to others.  There will be games\, crafts\, snacks\, time for fellowship\, and a chance to bless others in our church family with cards of encouragement. \n*There are no regularly scheduled clubs for kids.  All children must be accompanied by an adult.
URL:https://cfcnewholland.org/event/family-valentines-party
LOCATION:Christian Fellowship Church\, 758 Spruce Rd.\, New Holland\, PA\, 17557\, United States
CATEGORIES:family,kids
ORGANIZER;CN="Julie Myers":MAILTO:childrensmin@cfcnewholland.org
END:VEVENT
BEGIN:VEVENT
DTSTART;TZID=America/New_York:20230225T130000
DTEND;TZID=America/New_York:20230225T150000
DTSTAMP:20260423T005634
CREATED:20230104T211253Z
LAST-MODIFIED:20230221T182647Z
UID:28606-1677330000-1677337200@cfcnewholland.org
SUMMARY:Indoor Winter Disc Golf
DESCRIPTION:Hey Lancaster Disc Golfers! This winter LCDGC is teaming up with Christian Fellowship Church (CFC) New Holland to hold a putting league in their gym. CFC has been running this league for a few years and I’m excited to see more Lancaster players get involved. Details are below:\n\nDates: Every Saturday evening at 6 – 8 PM\, from Jan 14 to Feb 25.\nCost: $5 per week\nDivisions: Pro & Am. Additional divisions may be considered based on participation\n\nThere will be some prizes each week as well as prizes at the end of the season. We will be doing a custom format with multiple stations\, using the gym as much as we can so there is a lot of variety in the play. Hope to see you there!
URL:https://cfcnewholland.org/event/discgolf
LOCATION:Christian Fellowship Church\, 758 Spruce Rd.\, New Holland\, PA\, 17557\, United States
CATEGORIES:men,women,young adults,youth
ORGANIZER;CN="Matt Trego":MAILTO:trego@cfcnewholland.org
END:VEVENT
BEGIN:VEVENT
DTSTART;TZID=America/New_York:20230227T140000
DTEND;TZID=America/New_York:20230227T154500
DTSTAMP:20260423T005634
CREATED:20221217T004640Z
LAST-MODIFIED:20230221T182626Z
UID:28521-1677506400-1677512700@cfcnewholland.org
SUMMARY:Men Digging Deep - "Knowing God" by J.I. Packer Study
DESCRIPTION:This group will take a close look at the doctrine of God with the goal to impact our devotion to God. Each man will be required to read\, study\, share and attend regularly. The group is limited to 25 men (post-high – 55 years old) who are desiring to grow. The group meets Monday Evenings (7:00-8:45pm). Reach out to Pastor Dave Horst if you are interested in being a part of this group (horst@cfcnewholland.org) Pastor Dave\, Micah Durling\, and other men will be facilitating this learning community. \n$5 donation for book
URL:https://cfcnewholland.org/event/men-digging-deep-knowing-god-by-j-i-packer-study
LOCATION:Christian Fellowship Church\, 758 Spruce Rd.\, New Holland\, PA\, 17557\, United States
CATEGORIES:men
ORGANIZER;CN="Dave Horst":MAILTO:horst@cfcnewholland.org
END:VEVENT
END:VCALENDAR