BEGIN:VCALENDAR
VERSION:2.0
PRODID:-//Christian Fellowship Church - ECPv6.15.16//NONSGML v1.0//EN
CALSCALE:GREGORIAN
METHOD:PUBLISH
X-WR-CALNAME:Christian Fellowship Church
X-ORIGINAL-URL:https://cfcnewholland.org
X-WR-CALDESC:Events for Christian Fellowship Church
REFRESH-INTERVAL;VALUE=DURATION:PT1H
X-Robots-Tag:noindex
X-PUBLISHED-TTL:PT1H
BEGIN:VTIMEZONE
TZID:America/New_York
BEGIN:DAYLIGHT
TZOFFSETFROM:-0500
TZOFFSETTO:-0400
TZNAME:EDT
DTSTART:20220313T070000
END:DAYLIGHT
BEGIN:STANDARD
TZOFFSETFROM:-0400
TZOFFSETTO:-0500
TZNAME:EST
DTSTART:20221106T060000
END:STANDARD
BEGIN:DAYLIGHT
TZOFFSETFROM:-0500
TZOFFSETTO:-0400
TZNAME:EDT
DTSTART:20230312T070000
END:DAYLIGHT
BEGIN:STANDARD
TZOFFSETFROM:-0400
TZOFFSETTO:-0500
TZNAME:EST
DTSTART:20231105T060000
END:STANDARD
BEGIN:DAYLIGHT
TZOFFSETFROM:-0500
TZOFFSETTO:-0400
TZNAME:EDT
DTSTART:20240310T070000
END:DAYLIGHT
BEGIN:STANDARD
TZOFFSETFROM:-0400
TZOFFSETTO:-0500
TZNAME:EST
DTSTART:20241103T060000
END:STANDARD
END:VTIMEZONE
BEGIN:VEVENT
DTSTART;TZID=America/New_York:20230118T140000
DTEND;TZID=America/New_York:20230118T153000
DTSTAMP:20260423T022152
CREATED:20230106T013756Z
LAST-MODIFIED:20230106T014344Z
UID:28631-1674050400-1674055800@cfcnewholland.org
SUMMARY:Nacho Average Wednesday Night - CFC Kids
DESCRIPTION:We hope you’ll plan to join us at “Nacho Average Wednesday Night!”  We’ll have kids clubs as usual (7PM)\, then come together at the end to enjoy some nachos together.  All ages are welcome (parents will oversee their own children).  Adults are welcomed and encouraged to take part in our Wednesday Evening Adult Prayer & Share\, “Dealing With Crippling Emotions” while the kids are in their classes.
URL:https://cfcnewholland.org/event/nachos
LOCATION:Christian Fellowship Church\, 758 Spruce Rd.\, New Holland\, PA\, 17557\, United States
CATEGORIES:family
ORGANIZER;CN="Julie Myers":MAILTO:childrensmin@cfcnewholland.org
END:VEVENT
BEGIN:VEVENT
DTSTART;TZID=America/New_York:20230120T130000
DTEND;TZID=America/New_York:20230122T070000
DTSTAMP:20260423T022152
CREATED:20221129T214649Z
LAST-MODIFIED:20221206T015700Z
UID:28330-1674219600-1674370800@cfcnewholland.org
SUMMARY:Senior High Snow Camp
DESCRIPTION:Join us at Word of Life’s Senior High Snow Camp!  We’ll depart Friday\, January 20th and return Sunday\, January 22nd.  The cost is $80 per student if you register by 12/15 or $110 if you register after.  We’d love to have you attend!  Please sign up today.  See www.cfcnewholland.org/studentministries for more information and to register.
URL:https://cfcnewholland.org/event/senior-high-snow-camp
LOCATION:Word of Life\, 4200 Glendale Rd\, Pottersville\, NY\, 12860\, United States
CATEGORIES:youth
ORGANIZER;CN="Jason Rohrbaugh":MAILTO:rohrbaugh@cfcnewholland.org
END:VEVENT
BEGIN:VEVENT
DTSTART;TZID=America/New_York:20230122T123000
DTEND;TZID=America/New_York:20230122T143000
DTSTAMP:20260423T022152
CREATED:20230104T221403Z
LAST-MODIFIED:20230104T234125Z
UID:28610-1674390600-1674397800@cfcnewholland.org
SUMMARY:Young Adult Singles - Volleyball Night
DESCRIPTION:Young Adult Singles – Join us for dinner and volleyball on Sunday Night\, January 22nd.  We’ll start with a light dinner around 5:30pm and then play volleyball together.  We’re hoping to get a good head count so that we can set up dinner and teams appropriately\, so let Pastor Matt Meservy know you’ll be coming by shooting a quick email to meservy@cfcnewholland.org.
URL:https://cfcnewholland.org/event/volleyball
LOCATION:Christian Fellowship Church\, 758 Spruce Rd.\, New Holland\, PA\, 17557\, United States
CATEGORIES:young adults
ORGANIZER;CN="Matt Meservy":MAILTO:meservy@cfcnewholland.org
END:VEVENT
BEGIN:VEVENT
DTSTART;TZID=America/New_York:20230127T030000
DTEND;TZID=America/New_York:20230129T120000
DTSTAMP:20260423T022152
CREATED:20221129T233620Z
LAST-MODIFIED:20221129T233646Z
UID:28334-1674788400-1674993600@cfcnewholland.org
SUMMARY:Junior High Winter Retreat
DESCRIPTION:Join our Jr. High Youth Ministry for our Winter ’23 Retreat at Highpoint Camp.  The retreat will be held January 27th-29th at High Point Camp in Geigertown\, PA.  The cost for this retreat is $60 if you register by 11/30 and $75 if you register following.  To register and for more info\, go to www.cfcnewholland.org/studentministries.
URL:https://cfcnewholland.org/event/junior-high-winter-retreat
LOCATION:High Point Camp\, 200 Chapel Rd.\, Geigertown\, PA\, United States
CATEGORIES:youth
ORGANIZER;CN="Jason Rohrbaugh":MAILTO:rohrbaugh@cfcnewholland.org
END:VEVENT
END:VCALENDAR