BEGIN:VCALENDAR
VERSION:2.0
PRODID:-//Christian Fellowship Church - ECPv6.15.16//NONSGML v1.0//EN
CALSCALE:GREGORIAN
METHOD:PUBLISH
X-WR-CALNAME:Christian Fellowship Church
X-ORIGINAL-URL:https://cfcnewholland.org
X-WR-CALDESC:Events for Christian Fellowship Church
REFRESH-INTERVAL;VALUE=DURATION:PT1H
X-Robots-Tag:noindex
X-PUBLISHED-TTL:PT1H
BEGIN:VTIMEZONE
TZID:America/New_York
BEGIN:DAYLIGHT
TZOFFSETFROM:-0500
TZOFFSETTO:-0400
TZNAME:EDT
DTSTART:20210314T070000
END:DAYLIGHT
BEGIN:STANDARD
TZOFFSETFROM:-0400
TZOFFSETTO:-0500
TZNAME:EST
DTSTART:20211107T060000
END:STANDARD
BEGIN:DAYLIGHT
TZOFFSETFROM:-0500
TZOFFSETTO:-0400
TZNAME:EDT
DTSTART:20220313T070000
END:DAYLIGHT
BEGIN:STANDARD
TZOFFSETFROM:-0400
TZOFFSETTO:-0500
TZNAME:EST
DTSTART:20221106T060000
END:STANDARD
BEGIN:DAYLIGHT
TZOFFSETFROM:-0500
TZOFFSETTO:-0400
TZNAME:EDT
DTSTART:20230312T070000
END:DAYLIGHT
BEGIN:STANDARD
TZOFFSETFROM:-0400
TZOFFSETTO:-0500
TZNAME:EST
DTSTART:20231105T060000
END:STANDARD
END:VTIMEZONE
BEGIN:VEVENT
DTSTART;TZID=America/New_York:20221104T140000
DTEND;TZID=America/New_York:20221104T163000
DTSTAMP:20260423T075400
CREATED:20221025T162600Z
LAST-MODIFIED:20221025T162600Z
UID:28129-1667570400-1667579400@cfcnewholland.org
SUMMARY:Young Adult Singles Bonfire
DESCRIPTION:We hope you’ll join us for our Young Adult Singles Bonfire at Greenview Bible Camp!  The bonfire will be held on Friday\, November 4th at 6PM at Greenview.  We’ll worship\, eat\, and hang out around the bonfire.  If you plan to make it\, shoot a quick email to Matt Meservy (meservy@cfcnewholland.org) so that we can be prepared with enough food.
URL:https://cfcnewholland.org/event/young-adult-singles-bonfire
LOCATION:Greenview Bible Camp\, 520 Chapel Ln\, Denver\, PA\, 17517\, United States
CATEGORIES:young adults
ATTACH;FMTTYPE=image/jpeg:https://cfcnewholland.org/wp-content/uploads/2022/10/bonfire-copy-scaled.jpg
ORGANIZER;CN="Matt Meservy":MAILTO:meservy@cfcnewholland.org
END:VEVENT
BEGIN:VEVENT
DTSTART;TZID=America/New_York:20221105T043000
DTEND;TZID=America/New_York:20221105T083000
DTSTAMP:20260423T075400
CREATED:20220921T171917Z
LAST-MODIFIED:20221019T201932Z
UID:27856-1667622600-1667637000@cfcnewholland.org
SUMMARY:Journey Through Grief Seminar
DESCRIPTION:“Help for People in Pain” seminar presented by Tim Sheetz\, Founder of  Handi*Vangelism and his wife\, Kathy. \nThis seminar will provide tools and help for those who are grieving or experiencing loss. (Check-in begins at 8:00 am) \nPlease visit cfcnewholland.org/journey for more information or to register by October 29.
URL:https://cfcnewholland.org/event/journey-through-grief-seminar
ATTACH;FMTTYPE=image/png:https://cfcnewholland.org/wp-content/uploads/2022/09/Grief-pic-2-Copy.png
END:VEVENT
BEGIN:VEVENT
DTSTART;TZID=America/New_York:20221107T140000
DTEND;TZID=America/New_York:20221107T151500
DTSTAMP:20260423T075400
CREATED:20220915T191824Z
LAST-MODIFIED:20221025T164047Z
UID:27722-1667829600-1667834100@cfcnewholland.org
SUMMARY:The Fight - Men's Bible Study
DESCRIPTION:Men’s Monday Night Study & Discussion – Join our men’s ministry for a 5 session study called “Fight” by Craig Groeschel.  Our next meet up will be November 7th at 7PM.  We will examine the life of Samson\, helping us to realize that we are created with a warrior’s heart in the image of God.  This study will be facilitated by Ladd Martin and Duane Miller.
URL:https://cfcnewholland.org/event/the-fight-mens-bible-study
LOCATION:Christian Fellowship Church\, 758 Spruce Rd.\, New Holland\, PA\, 17557\, United States
CATEGORIES:men
ORGANIZER;CN="Dave Horst":MAILTO:horst@cfcnewholland.org
END:VEVENT
BEGIN:VEVENT
DTSTART;TZID=America/New_York:20221110T040000
DTEND;TZID=America/New_York:20221110T060000
DTSTAMP:20260423T075400
CREATED:20220926T210528Z
LAST-MODIFIED:20221031T203254Z
UID:27840-1668052800-1668060000@cfcnewholland.org
SUMMARY:Intergenerational Ladies Bible Study
DESCRIPTION:Join us November 10th at 9AM at CFC as we continue our Intergenerational Ladies Bible Studies.  We have three powerful classes available for you to take part in.  We’ll have one group looking at the books of Ruth and Esther\, another group looking at “Living with Discernment in the End Times”\, and a third group studying the book of James.  This will be a great time of fellowship and learning together!  Please RSVP by going to: https://cfcnewholland.org/intergenerational-bible-studies
URL:https://cfcnewholland.org/event/intergenerational-ladies-bible-study
LOCATION:Christian Fellowship Church\, 758 Spruce Rd.\, New Holland\, PA\, 17557\, United States
CATEGORIES:women
END:VEVENT
BEGIN:VEVENT
DTSTART;TZID=America/New_York:20221124T033000
DTEND;TZID=America/New_York:20221124T050000
DTSTAMP:20260423T075400
CREATED:20221109T231628Z
LAST-MODIFIED:20221109T231734Z
UID:28192-1669260600-1669266000@cfcnewholland.org
SUMMARY:Sr. High Youth & Young Adults Flag Football - Thanksgiving Event
DESCRIPTION:Join Jason Rohrbaugh\, Matt Trego\, and Matt Meservy on Thanksgiving morning for flag football!  This event is for Sr. High Youth and Young Adults (invite some friends!).  We’ll meet at CFC at 8:30AM on Thursday\, November 24th to play.  We’ll have snacks for all who attend.  If you’d rather not play\, but would still like to be a part\, please plan to join us!  It may actually be more fun watching than playing (ha!).
URL:https://cfcnewholland.org/event/sr-high-youth-young-adults-flag-football-thanksgiving-event
LOCATION:Christian Fellowship Church\, 758 Spruce Rd.\, New Holland\, PA\, 17557\, United States
CATEGORIES:young adults,youth
ORGANIZER;CN="Jason Rohrbaugh":MAILTO:rohrbaugh@cfcnewholland.org
END:VEVENT
END:VCALENDAR