BEGIN:VCALENDAR
VERSION:2.0
PRODID:-//Christian Fellowship Church - ECPv6.15.16//NONSGML v1.0//EN
CALSCALE:GREGORIAN
METHOD:PUBLISH
X-WR-CALNAME:Christian Fellowship Church
X-ORIGINAL-URL:https://cfcnewholland.org
X-WR-CALDESC:Events for Christian Fellowship Church
REFRESH-INTERVAL;VALUE=DURATION:PT1H
X-Robots-Tag:noindex
X-PUBLISHED-TTL:PT1H
BEGIN:VTIMEZONE
TZID:America/New_York
BEGIN:DAYLIGHT
TZOFFSETFROM:-0500
TZOFFSETTO:-0400
TZNAME:EDT
DTSTART:20250309T070000
END:DAYLIGHT
BEGIN:STANDARD
TZOFFSETFROM:-0400
TZOFFSETTO:-0500
TZNAME:EST
DTSTART:20251102T060000
END:STANDARD
BEGIN:DAYLIGHT
TZOFFSETFROM:-0500
TZOFFSETTO:-0400
TZNAME:EDT
DTSTART:20260308T070000
END:DAYLIGHT
BEGIN:STANDARD
TZOFFSETFROM:-0400
TZOFFSETTO:-0500
TZNAME:EST
DTSTART:20261101T060000
END:STANDARD
BEGIN:DAYLIGHT
TZOFFSETFROM:-0500
TZOFFSETTO:-0400
TZNAME:EDT
DTSTART:20270314T070000
END:DAYLIGHT
BEGIN:STANDARD
TZOFFSETFROM:-0400
TZOFFSETTO:-0500
TZNAME:EST
DTSTART:20271107T060000
END:STANDARD
END:VTIMEZONE
BEGIN:VEVENT
DTSTART;TZID=America/New_York:20260507T070000
DTEND;TZID=America/New_York:20260507T190000
DTSTAMP:20260419T232653
CREATED:20260414T142327Z
LAST-MODIFIED:20260415T203822Z
UID:36505-1778137200-1778180400@cfcnewholland.org
SUMMARY:All Day of Prayer - National Day of Prayer
DESCRIPTION:Join us on Thursday\, May 7th from 7AM to 7PM in the Christian Fellowship Church lobby for an “All Day of Prayer”.  Our hope is that at least one group or individual from our church body will be praying in our lobby from 7AM to 7PM on the National Day of Prayer. We will provide special stations with prayer prompts for you to be praying for our schools\, our families\, our church\, our city\, our state\, our nation\, and our world. Sign up for a half hour time slot. Please plan to bring your whole family!  We believe God moves when His people come before Him in prayer.
URL:https://cfcnewholland.org/event/prayer
LOCATION:Christian Fellowship Church\, 758 Spruce Rd.\, New Holland\, PA\, 17557\, United States
CATEGORIES:family,kids,men,women,young adults,youth
ATTACH;FMTTYPE=image/jpeg:https://cfcnewholland.org/wp-content/uploads/2026/04/all_day_prayer-scaled.jpg
ORGANIZER;CN="Church Office":MAILTO:cfc@cfcnewholland.org
END:VEVENT
BEGIN:VEVENT
DTSTART;TZID=America/New_York:20260509T090000
DTEND;TZID=America/New_York:20260509T090000
DTSTAMP:20260419T232653
CREATED:20260402T184051Z
LAST-MODIFIED:20260402T190737Z
UID:36454-1778317200-1778317200@cfcnewholland.org
SUMMARY:Heart To Heart Breakfast Brunch - May 9
DESCRIPTION:Ladies\, you’re invited to a Spring Brunch on Saturday\, May 9 at 9am at Christian Fellowship Church in Fellowship Hall. Join us for a morning of refreshment and fellowship! Bring a friend and a dish to share. An iced and hot coffee bar will be provided. RSVP by May 4.
URL:https://cfcnewholland.org/event/heart-to-heart-breakfast-brunch-may-9
ATTACH;FMTTYPE=image/jpeg:https://cfcnewholland.org/wp-content/uploads/2026/04/Heart-to-Heart-Breakfast-Bunch-3840-x-2160-px-scaled.jpg
END:VEVENT
BEGIN:VEVENT
DTSTART;TZID=America/New_York:20260615T181500
DTEND;TZID=America/New_York:20260618T204500
DTSTAMP:20260419T232653
CREATED:20260402T181907Z
LAST-MODIFIED:20260402T181922Z
UID:36442-1781547300-1781815500@cfcnewholland.org
SUMMARY:Vacation Bible School - June 15-18
DESCRIPTION:In a world filled with worry and confusion\, kids need to know there is a God who cares for them. At Emerald Crossing VBS\, they’ll journey through Ireland’s lush landscapes\, exploring the powerful words of Psalm 23. They’ll discover the life of the shepherd-king David and will learn how to cross from worry to peace\, from fear to faith\, and from uncertainty to a firm foundation in God’s Word through a relationship with the Good Shepherd. \nGet your passport ready for Ireland and join the adventure! Learn more.
URL:https://cfcnewholland.org/event/vacation-bible-school-june-15-18
ATTACH;FMTTYPE=image/jpeg:https://cfcnewholland.org/wp-content/uploads/2026/04/VBS-Slide-04-05-2026-scaled.jpg
END:VEVENT
END:VCALENDAR