BEGIN:VCALENDAR
VERSION:2.0
PRODID:-//Christian Fellowship Church - ECPv6.15.16//NONSGML v1.0//EN
CALSCALE:GREGORIAN
METHOD:PUBLISH
X-WR-CALNAME:Christian Fellowship Church
X-ORIGINAL-URL:https://cfcnewholland.org
X-WR-CALDESC:Events for Christian Fellowship Church
REFRESH-INTERVAL;VALUE=DURATION:PT1H
X-Robots-Tag:noindex
X-PUBLISHED-TTL:PT1H
BEGIN:VTIMEZONE
TZID:America/New_York
BEGIN:DAYLIGHT
TZOFFSETFROM:-0500
TZOFFSETTO:-0400
TZNAME:EDT
DTSTART:20230312T070000
END:DAYLIGHT
BEGIN:STANDARD
TZOFFSETFROM:-0400
TZOFFSETTO:-0500
TZNAME:EST
DTSTART:20231105T060000
END:STANDARD
BEGIN:DAYLIGHT
TZOFFSETFROM:-0500
TZOFFSETTO:-0400
TZNAME:EDT
DTSTART:20240310T070000
END:DAYLIGHT
BEGIN:STANDARD
TZOFFSETFROM:-0400
TZOFFSETTO:-0500
TZNAME:EST
DTSTART:20241103T060000
END:STANDARD
BEGIN:DAYLIGHT
TZOFFSETFROM:-0500
TZOFFSETTO:-0400
TZNAME:EDT
DTSTART:20250309T070000
END:DAYLIGHT
BEGIN:STANDARD
TZOFFSETFROM:-0400
TZOFFSETTO:-0500
TZNAME:EST
DTSTART:20251102T060000
END:STANDARD
END:VTIMEZONE
BEGIN:VEVENT
DTSTART;VALUE=DATE:20240422
DTEND;VALUE=DATE:20240602
DTSTAMP:20260421T175854
CREATED:20240422T165059Z
LAST-MODIFIED:20240422T165059Z
UID:31801-1713744000-1717286399@cfcnewholland.org
SUMMARY:Rent-A-Student
DESCRIPTION:Thank you for your interest in taking part in the Rent-A-Student program! Your participation directly supports our students as they seek to minister through our summer mission trips. Please fill out the form below so we can schedule a time to complete whatever job you have in mind. \nThe program runs from April 22nd to June 1st. \nWhat is Rent-A-Student?\nRent-A-Student is a program where individuals can “rent” students who are participating in summer mission trips to do various tasks. The idea is that the program will be mutually beneficial: you get help with whatever is on your to-do list\, and the students can raise money towards their trips! \nCheck out www.cfcnewholland.org/ras for more info and to register for a student!
URL:https://cfcnewholland.org/event/rent-a-student
LOCATION:Christian Fellowship Church\, 758 Spruce Rd.\, New Holland\, PA\, 17557\, United States
CATEGORIES:family,kids,men,women,young adults,youth
ATTACH;FMTTYPE=image/jpeg:https://cfcnewholland.org/wp-content/uploads/2022/04/rent-a-student-header-scaled.jpg
ORGANIZER;CN="Jason Rohrbaugh":MAILTO:rohrbaugh@cfcnewholland.org
END:VEVENT
END:VCALENDAR