BEGIN:VCALENDAR
VERSION:2.0
PRODID:-//Christian Fellowship Church - ECPv6.15.16//NONSGML v1.0//EN
CALSCALE:GREGORIAN
METHOD:PUBLISH
X-ORIGINAL-URL:https://cfcnewholland.org
X-WR-CALDESC:Events for Christian Fellowship Church
REFRESH-INTERVAL;VALUE=DURATION:PT1H
X-Robots-Tag:noindex
X-PUBLISHED-TTL:PT1H
BEGIN:VTIMEZONE
TZID:America/New_York
BEGIN:DAYLIGHT
TZOFFSETFROM:-0500
TZOFFSETTO:-0400
TZNAME:EDT
DTSTART:20220313T070000
END:DAYLIGHT
BEGIN:STANDARD
TZOFFSETFROM:-0400
TZOFFSETTO:-0500
TZNAME:EST
DTSTART:20221106T060000
END:STANDARD
BEGIN:DAYLIGHT
TZOFFSETFROM:-0500
TZOFFSETTO:-0400
TZNAME:EDT
DTSTART:20230312T070000
END:DAYLIGHT
BEGIN:STANDARD
TZOFFSETFROM:-0400
TZOFFSETTO:-0500
TZNAME:EST
DTSTART:20231105T060000
END:STANDARD
BEGIN:DAYLIGHT
TZOFFSETFROM:-0500
TZOFFSETTO:-0400
TZNAME:EDT
DTSTART:20240310T070000
END:DAYLIGHT
BEGIN:STANDARD
TZOFFSETFROM:-0400
TZOFFSETTO:-0500
TZNAME:EST
DTSTART:20241103T060000
END:STANDARD
END:VTIMEZONE
BEGIN:VEVENT
DTSTART;VALUE=DATE:20231221
DTEND;VALUE=DATE:20231224
DTSTAMP:20260422T075444
CREATED:20231130T174257Z
LAST-MODIFIED:20231130T174257Z
UID:30726-1703116800-1703375999@cfcnewholland.org
SUMMARY:Escape Room - Fundraiser for Student Ministries Missions
DESCRIPTION:The Student Ministry will be running a “No Room at the Inn” themed escape room at CFC as a fundraiser for future Student Missions! Come join the fun and support missions at the same time! \nThe escape room will be running the evenings of Thursday\, 12/21\, Friday\, 12/22 and Saturday 12/23 from 6-9PM. We will be able to accomodate groups of up to 8 people\, and the room should take around 30-45 minutes to complete. \nDonations can be made at the door by check made out to CFC (preferred) or cash. \nTo register and save your group’s spot\, please go to: https://cfcnewholland.org/escape_room.
URL:https://cfcnewholland.org/event/escape
LOCATION:Christian Fellowship Church\, 758 Spruce Rd.\, New Holland\, PA\, 17557\, United States
CATEGORIES:family,youth
ORGANIZER;CN="Jason Rohrbaugh":MAILTO:rohrbaugh@cfcnewholland.org
END:VEVENT
END:VCALENDAR