BEGIN:VCALENDAR
VERSION:2.0
PRODID:-//Christian Fellowship Church - ECPv6.15.16//NONSGML v1.0//EN
CALSCALE:GREGORIAN
METHOD:PUBLISH
X-WR-CALNAME:Christian Fellowship Church
X-ORIGINAL-URL:https://cfcnewholland.org
X-WR-CALDESC:Events for Christian Fellowship Church
REFRESH-INTERVAL;VALUE=DURATION:PT1H
X-Robots-Tag:noindex
X-PUBLISHED-TTL:PT1H
BEGIN:VTIMEZONE
TZID:America/New_York
BEGIN:DAYLIGHT
TZOFFSETFROM:-0500
TZOFFSETTO:-0400
TZNAME:EDT
DTSTART:20230312T070000
END:DAYLIGHT
BEGIN:STANDARD
TZOFFSETFROM:-0400
TZOFFSETTO:-0500
TZNAME:EST
DTSTART:20231105T060000
END:STANDARD
BEGIN:DAYLIGHT
TZOFFSETFROM:-0500
TZOFFSETTO:-0400
TZNAME:EDT
DTSTART:20240310T070000
END:DAYLIGHT
BEGIN:STANDARD
TZOFFSETFROM:-0400
TZOFFSETTO:-0500
TZNAME:EST
DTSTART:20241103T060000
END:STANDARD
BEGIN:DAYLIGHT
TZOFFSETFROM:-0500
TZOFFSETTO:-0400
TZNAME:EDT
DTSTART:20250309T070000
END:DAYLIGHT
BEGIN:STANDARD
TZOFFSETFROM:-0400
TZOFFSETTO:-0500
TZNAME:EST
DTSTART:20251102T060000
END:STANDARD
END:VTIMEZONE
BEGIN:VEVENT
DTSTART;VALUE=DATE:20241026
DTEND;VALUE=DATE:20241028
DTSTAMP:20260421T060106
CREATED:20241009T144738Z
LAST-MODIFIED:20241009T144820Z
UID:32733-1729900800-1730073599@cfcnewholland.org
SUMMARY:Jr. & Sr. High Connect Retreat
DESCRIPTION:It’s time for our annual “stay-retreat”! During Connect weekend\, we will meet at CFC to begin\, but most of the day will be spent in small groups doing activities like corn mazes\, pumpkin carving\, and so forth (each small group leader will decide what their group will be doing). We will reconvene in the evening at CFC for a lesson\, and then travel to host family houses for a light snack and to spend the night. Host families also provide breakfast Sunday morning\, after which we will meet back at CFC for worship and another lesson. \nDetails: \nWhen: Saturday October 26th to Sunday morning October 27th \nWhere: Onsite at CFC\, overnight at host families\, and various offsite activities \nWho: Grades 7-12 \nCost: $40/1st student\, $30/2nd student\, $20/ 3rd student (payable via Cash or Check to CFC or online – select “Give” in the upper righthand corner\, and give to “Youth Retreat” with the student’s name in the note section). \nWhat’s Included: Meals\, Activity (TBD) and T-shirt. \nWhat to Bring: sleeping bag and pillow\, hygiene essentials\, change of clothes\, bible \nPlease register by Sunday\, October 13th\, to guarantee T shirt. \nGo to https://cfcnewholland.org/student-ministry-connect to register to attend!
URL:https://cfcnewholland.org/event/connect
LOCATION:Christian Fellowship Church\, 758 Spruce Rd.\, New Holland\, PA\, 17557\, United States
CATEGORIES:youth
ORGANIZER;CN="Jason Rohrbaugh":MAILTO:rohrbaugh@cfcnewholland.org
END:VEVENT
END:VCALENDAR