BEGIN:VCALENDAR
VERSION:2.0
PRODID:-//Christian Fellowship Church - ECPv6.15.16//NONSGML v1.0//EN
CALSCALE:GREGORIAN
METHOD:PUBLISH
X-WR-CALNAME:Christian Fellowship Church
X-ORIGINAL-URL:https://cfcnewholland.org
X-WR-CALDESC:Events for Christian Fellowship Church
REFRESH-INTERVAL;VALUE=DURATION:PT1H
X-Robots-Tag:noindex
X-PUBLISHED-TTL:PT1H
BEGIN:VTIMEZONE
TZID:America/New_York
BEGIN:DAYLIGHT
TZOFFSETFROM:-0500
TZOFFSETTO:-0400
TZNAME:EDT
DTSTART:20240310T070000
END:DAYLIGHT
BEGIN:STANDARD
TZOFFSETFROM:-0400
TZOFFSETTO:-0500
TZNAME:EST
DTSTART:20241103T060000
END:STANDARD
BEGIN:DAYLIGHT
TZOFFSETFROM:-0500
TZOFFSETTO:-0400
TZNAME:EDT
DTSTART:20250309T070000
END:DAYLIGHT
BEGIN:STANDARD
TZOFFSETFROM:-0400
TZOFFSETTO:-0500
TZNAME:EST
DTSTART:20251102T060000
END:STANDARD
BEGIN:DAYLIGHT
TZOFFSETFROM:-0500
TZOFFSETTO:-0400
TZNAME:EDT
DTSTART:20260308T070000
END:DAYLIGHT
BEGIN:STANDARD
TZOFFSETFROM:-0400
TZOFFSETTO:-0500
TZNAME:EST
DTSTART:20261101T060000
END:STANDARD
END:VTIMEZONE
BEGIN:VEVENT
DTSTART;VALUE=DATE:20250323
DTEND;VALUE=DATE:20250324
DTSTAMP:20260420T221229
CREATED:20250224T143722Z
LAST-MODIFIED:20250313T023109Z
UID:33540-1742688000-1742774399@cfcnewholland.org
SUMMARY:Prophecy Seminar
DESCRIPTION:Please plan to join us Sunday\, March 23rd for a full day of digging deeper into prophetic issues of vital importance to those who love Jesus and those who love the nation of Israel! \nDr. David Gunn\, formerly with Baptist Bible Seminary in Clarks Summit and now with Friends of Isreal\, will lead us in a scriptural investigation of the following topics: \n\nWhy should a Christian support the nation of Israel today? (8:15 and 10:45 AM)\nWhy is premillennialism the best explanation of the future of Israel? (9:30 AM – everyone is welcome in the sanctuary 5th grade and up in lieu of regular ABF’s)\nWhy is pretribulationalism the best explanation of the Lord’s return? Conversely\, why is postribulationalism not the best explanation? (6:00-8:15 PM)
URL:https://cfcnewholland.org/event/prophecy
LOCATION:Christian Fellowship Church\, 758 Spruce Rd.\, New Holland\, PA\, 17557\, United States
CATEGORIES:family,kids,men,women,young adults,youth
ORGANIZER;CN="Church Office":MAILTO:cfc@cfcnewholland.org
END:VEVENT
END:VCALENDAR