BEGIN:VCALENDAR
VERSION:2.0
PRODID:-//Christian Fellowship Church - ECPv6.15.16//NONSGML v1.0//EN
CALSCALE:GREGORIAN
METHOD:PUBLISH
X-WR-CALNAME:Christian Fellowship Church
X-ORIGINAL-URL:https://cfcnewholland.org
X-WR-CALDESC:Events for Christian Fellowship Church
REFRESH-INTERVAL;VALUE=DURATION:PT1H
X-Robots-Tag:noindex
X-PUBLISHED-TTL:PT1H
BEGIN:VTIMEZONE
TZID:America/New_York
BEGIN:DAYLIGHT
TZOFFSETFROM:-0500
TZOFFSETTO:-0400
TZNAME:EDT
DTSTART:20230312T070000
END:DAYLIGHT
BEGIN:STANDARD
TZOFFSETFROM:-0400
TZOFFSETTO:-0500
TZNAME:EST
DTSTART:20231105T060000
END:STANDARD
BEGIN:DAYLIGHT
TZOFFSETFROM:-0500
TZOFFSETTO:-0400
TZNAME:EDT
DTSTART:20240310T070000
END:DAYLIGHT
BEGIN:STANDARD
TZOFFSETFROM:-0400
TZOFFSETTO:-0500
TZNAME:EST
DTSTART:20241103T060000
END:STANDARD
BEGIN:DAYLIGHT
TZOFFSETFROM:-0500
TZOFFSETTO:-0400
TZNAME:EDT
DTSTART:20250309T070000
END:DAYLIGHT
BEGIN:STANDARD
TZOFFSETFROM:-0400
TZOFFSETTO:-0500
TZNAME:EST
DTSTART:20251102T060000
END:STANDARD
END:VTIMEZONE
BEGIN:VEVENT
DTSTART;VALUE=DATE:20240414
DTEND;VALUE=DATE:20240415
DTSTAMP:20260421T150006
CREATED:20240307T133315Z
LAST-MODIFIED:20240410T183328Z
UID:31410-1713052800-1713139199@cfcnewholland.org
SUMMARY:Mission Focus Sunday
DESCRIPTION:April 14\, 2024 \nJoin us for Missions Focus Sunday at Christian Fellowship Church.  We will have a number of Missions Focused events on Sunday\, April 14th.  Check them out below: \n\nJerad Mellette (WOL Montreal\, Quebec) will be our guest speaker in all 3 services – “Compassion does not exist without action” Luke 10:25-27\nMissionary videos for all Adult Bible Fellowships in our Fellowship Hall at 8:15\, 9:30 & 10:45\nSpecial video presentation of CFC supported missionaries\nJr church special presentation by Jon Rohrbaugh (Greenview Bible Camp) for grades 1-6 at 10:45 only\nCongregational lunch with missionaries for those who signed up\nEvening gathering in our Fellowship Hall – ministry update and Q&A with Jared Mellette at 7PM with light refreshments\nSr High Youth Group to meet with Bryan and Lori Smith at 7PM (Avant\, Mexico)\n\nGo to www.cfcnewholland.org/missionfocus to learn more and sign up for our congregational lunch.
URL:https://cfcnewholland.org/event/mission
LOCATION:Christian Fellowship Church\, 758 Spruce Rd.\, New Holland\, PA\, 17557\, United States
CATEGORIES:family,kids,men,women,young adults,youth
ORGANIZER;CN="Church Office":MAILTO:cfc@cfcnewholland.org
END:VEVENT
BEGIN:VEVENT
DTSTART;VALUE=DATE:20240422
DTEND;VALUE=DATE:20240602
DTSTAMP:20260421T150006
CREATED:20240422T165059Z
LAST-MODIFIED:20240422T165059Z
UID:31801-1713744000-1717286399@cfcnewholland.org
SUMMARY:Rent-A-Student
DESCRIPTION:Thank you for your interest in taking part in the Rent-A-Student program! Your participation directly supports our students as they seek to minister through our summer mission trips. Please fill out the form below so we can schedule a time to complete whatever job you have in mind. \nThe program runs from April 22nd to June 1st. \nWhat is Rent-A-Student?\nRent-A-Student is a program where individuals can “rent” students who are participating in summer mission trips to do various tasks. The idea is that the program will be mutually beneficial: you get help with whatever is on your to-do list\, and the students can raise money towards their trips! \nCheck out www.cfcnewholland.org/ras for more info and to register for a student!
URL:https://cfcnewholland.org/event/rent-a-student
LOCATION:Christian Fellowship Church\, 758 Spruce Rd.\, New Holland\, PA\, 17557\, United States
CATEGORIES:family,kids,men,women,young adults,youth
ATTACH;FMTTYPE=image/jpeg:https://cfcnewholland.org/wp-content/uploads/2022/04/rent-a-student-header-scaled.jpg
ORGANIZER;CN="Jason Rohrbaugh":MAILTO:rohrbaugh@cfcnewholland.org
END:VEVENT
BEGIN:VEVENT
DTSTART;TZID=America/New_York:20240428T081500
DTEND;TZID=America/New_York:20240428T120000
DTSTAMP:20260421T150006
CREATED:20240422T152249Z
LAST-MODIFIED:20240422T152249Z
UID:31799-1714292100-1714305600@cfcnewholland.org
SUMMARY:New Adult Bible Fellowship Starting - Jonah
DESCRIPTION:New Adult Bible Fellowships begin on April 28.  Most ABF’s will b e doing a six-session study on the book of Jonah entitled\, “When God’s Purpose Isn’t In Your Plans”.  Visit www.cfcnewholland.org/abf for more information. \nJoin us at 8:15\, 9:30\, or 10:45AM on Sunday\, April 28 to join in this new ABF.
URL:https://cfcnewholland.org/event/jonahabf
LOCATION:Christian Fellowship Church\, 758 Spruce Rd.\, New Holland\, PA\, 17557\, United States
CATEGORIES:family,men,women,young adults
ORGANIZER;CN="Dave Horst":MAILTO:horst@cfcnewholland.org
END:VEVENT
END:VCALENDAR