BEGIN:VCALENDAR
VERSION:2.0
PRODID:-//Christian Fellowship Church - ECPv6.15.16//NONSGML v1.0//EN
CALSCALE:GREGORIAN
METHOD:PUBLISH
X-WR-CALNAME:Christian Fellowship Church
X-ORIGINAL-URL:https://cfcnewholland.org
X-WR-CALDESC:Events for Christian Fellowship Church
REFRESH-INTERVAL;VALUE=DURATION:PT1H
X-Robots-Tag:noindex
X-PUBLISHED-TTL:PT1H
BEGIN:VTIMEZONE
TZID:America/New_York
BEGIN:DAYLIGHT
TZOFFSETFROM:-0500
TZOFFSETTO:-0400
TZNAME:EDT
DTSTART:20220313T070000
END:DAYLIGHT
BEGIN:STANDARD
TZOFFSETFROM:-0400
TZOFFSETTO:-0500
TZNAME:EST
DTSTART:20221106T060000
END:STANDARD
BEGIN:DAYLIGHT
TZOFFSETFROM:-0500
TZOFFSETTO:-0400
TZNAME:EDT
DTSTART:20230312T070000
END:DAYLIGHT
BEGIN:STANDARD
TZOFFSETFROM:-0400
TZOFFSETTO:-0500
TZNAME:EST
DTSTART:20231105T060000
END:STANDARD
BEGIN:DAYLIGHT
TZOFFSETFROM:-0500
TZOFFSETTO:-0400
TZNAME:EDT
DTSTART:20240310T070000
END:DAYLIGHT
BEGIN:STANDARD
TZOFFSETFROM:-0400
TZOFFSETTO:-0500
TZNAME:EST
DTSTART:20241103T060000
END:STANDARD
END:VTIMEZONE
BEGIN:VEVENT
DTSTART;TZID=America/New_York:20231101T174500
DTEND;TZID=America/New_York:20231101T200000
DTSTAMP:20260422T032437
CREATED:20231016T143312Z
LAST-MODIFIED:20231016T143312Z
UID:30457-1698860700-1698868800@cfcnewholland.org
SUMMARY:Light the Night!
DESCRIPTION:Join us for a special “light” themed Wednesday evening that will be fun for the whole family.  We’ll gather for a free dinner at 5:45PM followed by some fun and a special light-themed devotion from Pastor Doug Bozung.  Then the children will be dismissed for an evening of light-themed activities!  Adults are encouraged and welcome to join us in our “Adult Prayer & Share” time as we pray for our community\, nation\, and world.
URL:https://cfcnewholland.org/event/light-the-night
LOCATION:Christian Fellowship Church\, 758 Spruce Rd.\, New Holland\, PA\, 17557\, United States
CATEGORIES:family,men,women,young adults
ORGANIZER;CN="Church Office":MAILTO:cfc@cfcnewholland.org
END:VEVENT
BEGIN:VEVENT
DTSTART;TZID=America/New_York:20231123T080000
DTEND;TZID=America/New_York:20231123T100000
DTSTAMP:20260422T032437
CREATED:20231025T164155Z
LAST-MODIFIED:20231115T170608Z
UID:30512-1700726400-1700733600@cfcnewholland.org
SUMMARY:Thanksgiving Day Youth & Young Adults Flag Football
DESCRIPTION:Join our Youth & Young Adults Ministries as we play flag football together on the morning of Thanksgiving!  The more players and fans the merrier!  We’ll meet up at 8AM for some snacks\, a prayer\, and then a game of flag football!
URL:https://cfcnewholland.org/event/football
LOCATION:Christian Fellowship Church\, 758 Spruce Rd.\, New Holland\, PA\, 17557\, United States
CATEGORIES:young adults,youth
ORGANIZER;CN="Jason Rohrbaugh":MAILTO:rohrbaugh@cfcnewholland.org
END:VEVENT
END:VCALENDAR