BEGIN:VCALENDAR
VERSION:2.0
PRODID:-//Christian Fellowship Church - ECPv6.15.16//NONSGML v1.0//EN
CALSCALE:GREGORIAN
METHOD:PUBLISH
X-ORIGINAL-URL:https://cfcnewholland.org
X-WR-CALDESC:Events for Christian Fellowship Church
REFRESH-INTERVAL;VALUE=DURATION:PT1H
X-Robots-Tag:noindex
X-PUBLISHED-TTL:PT1H
BEGIN:VTIMEZONE
TZID:America/New_York
BEGIN:DAYLIGHT
TZOFFSETFROM:-0500
TZOFFSETTO:-0400
TZNAME:EDT
DTSTART:20230312T070000
END:DAYLIGHT
BEGIN:STANDARD
TZOFFSETFROM:-0400
TZOFFSETTO:-0500
TZNAME:EST
DTSTART:20231105T060000
END:STANDARD
BEGIN:DAYLIGHT
TZOFFSETFROM:-0500
TZOFFSETTO:-0400
TZNAME:EDT
DTSTART:20240310T070000
END:DAYLIGHT
BEGIN:STANDARD
TZOFFSETFROM:-0400
TZOFFSETTO:-0500
TZNAME:EST
DTSTART:20241103T060000
END:STANDARD
BEGIN:DAYLIGHT
TZOFFSETFROM:-0500
TZOFFSETTO:-0400
TZNAME:EDT
DTSTART:20250309T070000
END:DAYLIGHT
BEGIN:STANDARD
TZOFFSETFROM:-0400
TZOFFSETTO:-0500
TZNAME:EST
DTSTART:20251102T060000
END:STANDARD
END:VTIMEZONE
BEGIN:VEVENT
DTSTART;VALUE=DATE:20240116
DTEND;VALUE=DATE:20240117
DTSTAMP:20260422T003517
CREATED:20240109T133704Z
LAST-MODIFIED:20240109T133704Z
UID:31001-1705363200-1705449599@cfcnewholland.org
SUMMARY:Ladies Bible Study - Isaiah
DESCRIPTION:Tuesdays starting\nJanuary 16th\n9am-10:30am or 7pm-8:30pm\nin the Adult Learning Center \nAs you study the chapters Isaiah wrote–from his challenging words to the nation of Israel to his prophecies of the Messiah to come–learn to rest in God’s promises and grow in trust. Unpacking Isaiah’s words will reveal that you can trust God more than your own human effort. You can trust more deeply The Faithful One who is so worthy of our utter dependence. In Him you’ll find the comfort and peace you need to sustain you. \nCoffee\, tea and fellowship included at each session \nRSVP at https://cfcnewholland.org/ladiesbiblestudy to let us know you’ll be there!
URL:https://cfcnewholland.org/event/biblestudy
LOCATION:Christian Fellowship Church\, 758 Spruce Rd.\, New Holland\, PA\, 17557\, United States
CATEGORIES:women
ORGANIZER;CN="Church Office":MAILTO:cfc@cfcnewholland.org
END:VEVENT
END:VCALENDAR