BEGIN:VCALENDAR
VERSION:2.0
PRODID:-//Christian Fellowship Church - ECPv6.15.16//NONSGML v1.0//EN
CALSCALE:GREGORIAN
METHOD:PUBLISH
X-WR-CALNAME:Christian Fellowship Church
X-ORIGINAL-URL:https://cfcnewholland.org
X-WR-CALDESC:Events for Christian Fellowship Church
REFRESH-INTERVAL;VALUE=DURATION:PT1H
X-Robots-Tag:noindex
X-PUBLISHED-TTL:PT1H
BEGIN:VTIMEZONE
TZID:America/New_York
BEGIN:DAYLIGHT
TZOFFSETFROM:-0500
TZOFFSETTO:-0400
TZNAME:EDT
DTSTART:20220313T070000
END:DAYLIGHT
BEGIN:STANDARD
TZOFFSETFROM:-0400
TZOFFSETTO:-0500
TZNAME:EST
DTSTART:20221106T060000
END:STANDARD
BEGIN:DAYLIGHT
TZOFFSETFROM:-0500
TZOFFSETTO:-0400
TZNAME:EDT
DTSTART:20230312T070000
END:DAYLIGHT
BEGIN:STANDARD
TZOFFSETFROM:-0400
TZOFFSETTO:-0500
TZNAME:EST
DTSTART:20231105T060000
END:STANDARD
BEGIN:DAYLIGHT
TZOFFSETFROM:-0500
TZOFFSETTO:-0400
TZNAME:EDT
DTSTART:20240310T070000
END:DAYLIGHT
BEGIN:STANDARD
TZOFFSETFROM:-0400
TZOFFSETTO:-0500
TZNAME:EST
DTSTART:20241103T060000
END:STANDARD
END:VTIMEZONE
BEGIN:VEVENT
DTSTART;TZID=America/New_York:20231109T181500
DTEND;TZID=America/New_York:20231109T200000
DTSTAMP:20260422T045151
CREATED:20231002T155141Z
LAST-MODIFIED:20231002T155141Z
UID:30401-1699553700-1699560000@cfcnewholland.org
SUMMARY:Ladies Fellowship
DESCRIPTION:1 Peter 4:10 tells us that all believers receive a gift from God!  We are called to use our gifts to serve one another and to be good stewards of the gifts we have received.  In short\, we are called to come together!  Our Women’s Ministry does a lot to help you grow in your faith\, but if we were never to all come together and show support for one another\, we will have failed.  Our Ladies Fellowships are designed to bring us all together!  Whether you’ve never been to CFC before or have been here for many years\, you are welcome to join us.  We have great food\, great conversation\, and a great speaker at each of our Ladies Fellowships.  You won’t want to miss these great opportunities to grow in your faith and in our community!  RSVP at www.cfcnewholland.org/ladiesfellowship \nNovember 9 – Judy Horst Martin – “Heart Gifts” (creative gift giving ideas)
URL:https://cfcnewholland.org/event/ladies-fellowship
LOCATION:Christian Fellowship Church\, 758 Spruce Rd.\, New Holland\, PA\, 17557\, United States
CATEGORIES:women
ATTACH;FMTTYPE=image/jpeg:https://cfcnewholland.org/wp-content/uploads/2023/07/ladies_fellowship-scaled.jpg
ORGANIZER;CN="Church Office":MAILTO:cfc@cfcnewholland.org
END:VEVENT
END:VCALENDAR