BEGIN:VCALENDAR
VERSION:2.0
PRODID:-//Christian Fellowship Church - ECPv6.15.16//NONSGML v1.0//EN
CALSCALE:GREGORIAN
METHOD:PUBLISH
X-WR-CALNAME:Christian Fellowship Church
X-ORIGINAL-URL:https://cfcnewholland.org
X-WR-CALDESC:Events for Christian Fellowship Church
REFRESH-INTERVAL;VALUE=DURATION:PT1H
X-Robots-Tag:noindex
X-PUBLISHED-TTL:PT1H
BEGIN:VTIMEZONE
TZID:America/New_York
BEGIN:DAYLIGHT
TZOFFSETFROM:-0500
TZOFFSETTO:-0400
TZNAME:EDT
DTSTART:20220313T070000
END:DAYLIGHT
BEGIN:STANDARD
TZOFFSETFROM:-0400
TZOFFSETTO:-0500
TZNAME:EST
DTSTART:20221106T060000
END:STANDARD
BEGIN:DAYLIGHT
TZOFFSETFROM:-0500
TZOFFSETTO:-0400
TZNAME:EDT
DTSTART:20230312T070000
END:DAYLIGHT
BEGIN:STANDARD
TZOFFSETFROM:-0400
TZOFFSETTO:-0500
TZNAME:EST
DTSTART:20231105T060000
END:STANDARD
BEGIN:DAYLIGHT
TZOFFSETFROM:-0500
TZOFFSETTO:-0400
TZNAME:EDT
DTSTART:20240310T070000
END:DAYLIGHT
BEGIN:STANDARD
TZOFFSETFROM:-0400
TZOFFSETTO:-0500
TZNAME:EST
DTSTART:20241103T060000
END:STANDARD
END:VTIMEZONE
BEGIN:VEVENT
DTSTART;VALUE=DATE:20230302
DTEND;VALUE=DATE:20230305
DTSTAMP:20260423T022838
CREATED:20221027T190810Z
LAST-MODIFIED:20230227T173331Z
UID:28149-1677783600-1677956399@cfcnewholland.org
SUMMARY:Thrive Marriage Seminar
DESCRIPTION:TO VIEW THE SCHEDULE: https://cfcnewholland.org/thrive \nGreat marriages don’t just happen!  The reality is\, marriage isn’t easy.  Even the strongest relationships struggle.  But there’s hope!  For over 42 years\, FamilyLife has helped more than 1.5 million couples discover stronger\, more fulfilled relationships with a powerful future.  As a part of this\, we are thrilled to announce a Thrive Marriage Seminar that will be held at CFC on Friday evening and Saturday morning\, March 3rd and 4th.  You can go to https://cfcnewholland.org/thrive to learn more this event.  We know it will have an eternal impact on your life and your marriage. \nWe will provide childcare for children (birth – 6th grade).
URL:https://cfcnewholland.org/event/thrive
LOCATION:Christian Fellowship Church\, 758 Spruce Rd.\, New Holland\, PA\, 17557\, United States
CATEGORIES:men,women
ATTACH;FMTTYPE=image/jpeg:https://cfcnewholland.org/wp-content/uploads/2023/01/thrive_final_logo-scaled.jpg
ORGANIZER;CN="Matt Meservy":MAILTO:meservy@cfcnewholland.org
END:VEVENT
END:VCALENDAR