BEGIN:VCALENDAR
VERSION:2.0
PRODID:-//Christian Fellowship Church - ECPv6.15.16//NONSGML v1.0//EN
CALSCALE:GREGORIAN
METHOD:PUBLISH
X-ORIGINAL-URL:https://cfcnewholland.org
X-WR-CALDESC:Events for Christian Fellowship Church
REFRESH-INTERVAL;VALUE=DURATION:PT1H
X-Robots-Tag:noindex
X-PUBLISHED-TTL:PT1H
BEGIN:VTIMEZONE
TZID:America/New_York
BEGIN:DAYLIGHT
TZOFFSETFROM:-0500
TZOFFSETTO:-0400
TZNAME:EDT
DTSTART:20210314T070000
END:DAYLIGHT
BEGIN:STANDARD
TZOFFSETFROM:-0400
TZOFFSETTO:-0500
TZNAME:EST
DTSTART:20211107T060000
END:STANDARD
BEGIN:DAYLIGHT
TZOFFSETFROM:-0500
TZOFFSETTO:-0400
TZNAME:EDT
DTSTART:20220313T070000
END:DAYLIGHT
BEGIN:STANDARD
TZOFFSETFROM:-0400
TZOFFSETTO:-0500
TZNAME:EST
DTSTART:20221106T060000
END:STANDARD
BEGIN:DAYLIGHT
TZOFFSETFROM:-0500
TZOFFSETTO:-0400
TZNAME:EDT
DTSTART:20230312T070000
END:DAYLIGHT
BEGIN:STANDARD
TZOFFSETFROM:-0400
TZOFFSETTO:-0500
TZNAME:EST
DTSTART:20231105T060000
END:STANDARD
END:VTIMEZONE
BEGIN:VEVENT
DTSTART;TZID=America/New_York:20221025T050000
DTEND;TZID=America/New_York:20221025T063000
DTSTAMP:20260423T075741
CREATED:20221003T194758Z
LAST-MODIFIED:20221025T165553Z
UID:27954-1666674000-1666679400@cfcnewholland.org
SUMMARY:Ladies Bible Study - Amos An Invitation To The Good Life
DESCRIPTION:Join our Ladies ministry as we study “Amos – An Invitation To The Good Life”.  We have two opportunities for you to join!  You can either join us at 9AM or 7PM each Tuesday evening. \nAmos is often called a prophet of doom! Through his pronouncements of judgment\, we can see what happens when we don’t live the God life. Yet\, within each bleak condemnation\, is a tacit invitation to seek God so we can live the good life. Amos is promoting the God life\, and the God life is the good life! \nThrough this study\, you’ll be invited to live assured\, faithful\, chosen\, humble\, justly\, prayerful\, and hopeful. Ultimately\, you’ll be invited to “seek God and live” (Amos 5:4).
URL:https://cfcnewholland.org/event/ladies-bible-study-amos-an-invitation-to-the-good-life
LOCATION:Christian Fellowship Church\, 758 Spruce Rd.\, New Holland\, PA\, 17557\, United States
CATEGORIES:women
ORGANIZER;CN="Dave Horst":MAILTO:horst@cfcnewholland.org
END:VEVENT
END:VCALENDAR