BEGIN:VCALENDAR
VERSION:2.0
PRODID:-//Christian Fellowship Church - ECPv6.15.16//NONSGML v1.0//EN
CALSCALE:GREGORIAN
METHOD:PUBLISH
X-WR-CALNAME:Christian Fellowship Church
X-ORIGINAL-URL:https://cfcnewholland.org
X-WR-CALDESC:Events for Christian Fellowship Church
REFRESH-INTERVAL;VALUE=DURATION:PT1H
X-Robots-Tag:noindex
X-PUBLISHED-TTL:PT1H
BEGIN:VTIMEZONE
TZID:America/New_York
BEGIN:DAYLIGHT
TZOFFSETFROM:-0500
TZOFFSETTO:-0400
TZNAME:EDT
DTSTART:20240310T070000
END:DAYLIGHT
BEGIN:STANDARD
TZOFFSETFROM:-0400
TZOFFSETTO:-0500
TZNAME:EST
DTSTART:20241103T060000
END:STANDARD
BEGIN:DAYLIGHT
TZOFFSETFROM:-0500
TZOFFSETTO:-0400
TZNAME:EDT
DTSTART:20250309T070000
END:DAYLIGHT
BEGIN:STANDARD
TZOFFSETFROM:-0400
TZOFFSETTO:-0500
TZNAME:EST
DTSTART:20251102T060000
END:STANDARD
BEGIN:DAYLIGHT
TZOFFSETFROM:-0500
TZOFFSETTO:-0400
TZNAME:EDT
DTSTART:20260308T070000
END:DAYLIGHT
BEGIN:STANDARD
TZOFFSETFROM:-0400
TZOFFSETTO:-0500
TZNAME:EST
DTSTART:20261101T060000
END:STANDARD
END:VTIMEZONE
BEGIN:VEVENT
DTSTART;TZID=America/New_York:20251205T183000
DTEND;TZID=America/New_York:20251205T200000
DTSTAMP:20260420T030418
CREATED:20241107T160807Z
LAST-MODIFIED:20251111T143937Z
UID:32854-1764959400-1764964800@cfcnewholland.org
SUMMARY:Gingerbread Wars - Family Event
DESCRIPTION:If you have kiddos birth-6th grade\, you are welcome to join us for our annual Gingerbread Wars at CFC!  We’ll compete against one another as families to see who can create the best gingerbread house.  You’ll find out the theme on arrival. \nJoin us Friday\, December 5th at 6:30PM in the Children’s Wing for this fun time of fellowship.  Please shoot Julie Myers an email to let her know your family plans to attend (childrensmin@cfcnewholland.org).  This will help us make sure we have enough supplies to make the best gingerbread houses around! \nPlease note this is a family event (parental supervision will be required).
URL:https://cfcnewholland.org/event/gingerbread-wars-family-event
LOCATION:Christian Fellowship Church\, 758 Spruce Rd.\, New Holland\, PA\, 17557\, United States
CATEGORIES:family,kids
ATTACH;FMTTYPE=image/jpeg:https://cfcnewholland.org/wp-content/uploads/2024/11/gingerbread_wars_2025-scaled.jpg
ORGANIZER;CN="Julie Myers":MAILTO:childrensmin@cfcnewholland.org
END:VEVENT
BEGIN:VEVENT
DTSTART;VALUE=DATE:20251214
DTEND;VALUE=DATE:20251215
DTSTAMP:20260420T030418
CREATED:20251120T133201Z
LAST-MODIFIED:20251120T133201Z
UID:35254-1765670400-1765756799@cfcnewholland.org
SUMMARY:Kids Christmas Worship Sunday!
DESCRIPTION:We hope you’ll join us at CFC on Sunday\, December 14th at 8:15\, 9:30\, or 10:45AM!  Our Mountain Movers Children’s Ministry will help lead us in a number of Christmas songs.  Merry Christmas!
URL:https://cfcnewholland.org/event/kids-christmas-worship-sunday
LOCATION:PA
CATEGORIES:family,kids,men,women,young adults,youth
ATTACH;FMTTYPE=image/jpeg:https://cfcnewholland.org/wp-content/uploads/2025/11/Kids-Christmas-scaled.jpg
END:VEVENT
BEGIN:VEVENT
DTSTART;VALUE=DATE:20251228
DTEND;VALUE=DATE:20251230
DTSTAMP:20260420T030418
CREATED:20251227T213402Z
LAST-MODIFIED:20251227T214835Z
UID:35562-1766880000-1767052799@cfcnewholland.org
SUMMARY:Special Holiday Service Times
DESCRIPTION:Merry Christmas Church Family!  Just a reminder that we will only gather at 9:30AM and 10:45AM on Sunday\, December 28th.  We will not hold an 8:15AM service and will not hold any Adult Bible Fellowships.  We will have nursery – kindergarten childcare available at 10:45AM only.
URL:https://cfcnewholland.org/event/special-holiday-service-times
LOCATION:Christian Fellowship Church\, 758 Spruce Rd.\, New Holland\, PA\, 17557\, United States
CATEGORIES:family,kids,men,women,young adults,youth
ATTACH;FMTTYPE=image/jpeg:https://cfcnewholland.org/wp-content/uploads/2025/12/holiday_schedule_christmas-scaled.jpg
ORGANIZER;CN="Church Office":MAILTO:cfc@cfcnewholland.org
END:VEVENT
END:VCALENDAR