BEGIN:VCALENDAR
VERSION:2.0
PRODID:-//Christian Fellowship Church - ECPv6.15.16//NONSGML v1.0//EN
CALSCALE:GREGORIAN
METHOD:PUBLISH
X-WR-CALNAME:Christian Fellowship Church
X-ORIGINAL-URL:https://cfcnewholland.org
X-WR-CALDESC:Events for Christian Fellowship Church
REFRESH-INTERVAL;VALUE=DURATION:PT1H
X-Robots-Tag:noindex
X-PUBLISHED-TTL:PT1H
BEGIN:VTIMEZONE
TZID:America/New_York
BEGIN:DAYLIGHT
TZOFFSETFROM:-0500
TZOFFSETTO:-0400
TZNAME:EDT
DTSTART:20220313T070000
END:DAYLIGHT
BEGIN:STANDARD
TZOFFSETFROM:-0400
TZOFFSETTO:-0500
TZNAME:EST
DTSTART:20221106T060000
END:STANDARD
BEGIN:DAYLIGHT
TZOFFSETFROM:-0500
TZOFFSETTO:-0400
TZNAME:EDT
DTSTART:20230312T070000
END:DAYLIGHT
BEGIN:STANDARD
TZOFFSETFROM:-0400
TZOFFSETTO:-0500
TZNAME:EST
DTSTART:20231105T060000
END:STANDARD
BEGIN:DAYLIGHT
TZOFFSETFROM:-0500
TZOFFSETTO:-0400
TZNAME:EDT
DTSTART:20240310T070000
END:DAYLIGHT
BEGIN:STANDARD
TZOFFSETFROM:-0400
TZOFFSETTO:-0500
TZNAME:EST
DTSTART:20241103T060000
END:STANDARD
END:VTIMEZONE
BEGIN:VEVENT
DTSTART;TZID=America/New_York:20230402T140000
DTEND;TZID=America/New_York:20230402T170000
DTSTAMP:20260422T215017
CREATED:20230208T213217Z
LAST-MODIFIED:20230322T151556Z
UID:28860-1680444000-1680454800@cfcnewholland.org
SUMMARY:The Easter Journey
DESCRIPTION:Join us as we look forward to Easter Sunday for “The Easter Journey”!  This will be an interactive time geared towards the whole family.  Your family will traverse through a number of interactive stations meant to draw your mind and heart towards what Jesus did for us.  We plan to have live actors\, live music\, interactive artwork\, and age-appropriate elements geared towards both children and adults. \nThe Easter Journey will be held on Sunday\, April 2nd (Palm Sunday) at Christian Fellowship Church (758 Spruce Rd. New Holland\, PA).  The journey should take between 30-45 minutes to complete and you can show up anytime between 2pm and 5pm.  Please enter at our main entrance. \nWe can’t wait to see the whole family!
URL:https://cfcnewholland.org/event/the-easter-journey
LOCATION:Christian Fellowship Church\, 758 Spruce Rd.\, New Holland\, PA\, 17557\, United States
CATEGORIES:family,kids,men,women,young adults,youth
ORGANIZER;CN="Julie Myers":MAILTO:childrensmin@cfcnewholland.org
END:VEVENT
END:VCALENDAR