BEGIN:VCALENDAR
VERSION:2.0
PRODID:-//Christian Fellowship Church - ECPv6.15.16//NONSGML v1.0//EN
CALSCALE:GREGORIAN
METHOD:PUBLISH
X-ORIGINAL-URL:https://cfcnewholland.org
X-WR-CALDESC:Events for Christian Fellowship Church
REFRESH-INTERVAL;VALUE=DURATION:PT1H
X-Robots-Tag:noindex
X-PUBLISHED-TTL:PT1H
BEGIN:VTIMEZONE
TZID:America/New_York
BEGIN:DAYLIGHT
TZOFFSETFROM:-0500
TZOFFSETTO:-0400
TZNAME:EDT
DTSTART:20230312T070000
END:DAYLIGHT
BEGIN:STANDARD
TZOFFSETFROM:-0400
TZOFFSETTO:-0500
TZNAME:EST
DTSTART:20231105T060000
END:STANDARD
BEGIN:DAYLIGHT
TZOFFSETFROM:-0500
TZOFFSETTO:-0400
TZNAME:EDT
DTSTART:20240310T070000
END:DAYLIGHT
BEGIN:STANDARD
TZOFFSETFROM:-0400
TZOFFSETTO:-0500
TZNAME:EST
DTSTART:20241103T060000
END:STANDARD
BEGIN:DAYLIGHT
TZOFFSETFROM:-0500
TZOFFSETTO:-0400
TZNAME:EDT
DTSTART:20250309T070000
END:DAYLIGHT
BEGIN:STANDARD
TZOFFSETFROM:-0400
TZOFFSETTO:-0500
TZNAME:EST
DTSTART:20251102T060000
END:STANDARD
END:VTIMEZONE
BEGIN:VEVENT
DTSTART;TZID=America/New_York:20240411T181500
DTEND;TZID=America/New_York:20240411T200000
DTSTAMP:20260421T175536
CREATED:20240327T173423Z
LAST-MODIFIED:20240327T173423Z
UID:31596-1712859300-1712865600@cfcnewholland.org
SUMMARY:Ladies Fellowship - Spring Blooms
DESCRIPTION:Our Women’s Ministry would like to invite you to join us for “Spring Blooms\,” on Thursday\, April 11th at 6:15PM.  Moye Stauffer will be speaking on “The Me\, Jesus Sees.”  Dinner (Chicken with taco options such as salad\, tortilla chips\, cheese and also fruit and dessert)\, music and fellowship will be included!  We do ask for an $8 donation at the door to help us cover costs.  Please take a moment to RSVP at www.cfcnewholland.org/ladiesfellowship if you plan to attend!
URL:https://cfcnewholland.org/event/ladies-fellowship-spring-blooms
LOCATION:Christian Fellowship Church\, 758 Spruce Rd.\, New Holland\, PA\, 17557\, United States
ORGANIZER;CN="Church Office":MAILTO:cfc@cfcnewholland.org
END:VEVENT
END:VCALENDAR