BEGIN:VCALENDAR
VERSION:2.0
PRODID:-//Christian Fellowship Church - ECPv6.15.16//NONSGML v1.0//EN
CALSCALE:GREGORIAN
METHOD:PUBLISH
X-ORIGINAL-URL:https://cfcnewholland.org
X-WR-CALDESC:Events for Christian Fellowship Church
REFRESH-INTERVAL;VALUE=DURATION:PT1H
X-Robots-Tag:noindex
X-PUBLISHED-TTL:PT1H
BEGIN:VTIMEZONE
TZID:America/New_York
BEGIN:DAYLIGHT
TZOFFSETFROM:-0500
TZOFFSETTO:-0400
TZNAME:EDT
DTSTART:20230312T070000
END:DAYLIGHT
BEGIN:STANDARD
TZOFFSETFROM:-0400
TZOFFSETTO:-0500
TZNAME:EST
DTSTART:20231105T060000
END:STANDARD
BEGIN:DAYLIGHT
TZOFFSETFROM:-0500
TZOFFSETTO:-0400
TZNAME:EDT
DTSTART:20240310T070000
END:DAYLIGHT
BEGIN:STANDARD
TZOFFSETFROM:-0400
TZOFFSETTO:-0500
TZNAME:EST
DTSTART:20241103T060000
END:STANDARD
BEGIN:DAYLIGHT
TZOFFSETFROM:-0500
TZOFFSETTO:-0400
TZNAME:EDT
DTSTART:20250309T070000
END:DAYLIGHT
BEGIN:STANDARD
TZOFFSETFROM:-0400
TZOFFSETTO:-0500
TZNAME:EST
DTSTART:20251102T060000
END:STANDARD
END:VTIMEZONE
BEGIN:VEVENT
DTSTART;VALUE=DATE:20240316
DTEND;VALUE=DATE:20240318
DTSTAMP:20260421T210641
CREATED:20240102T180337Z
LAST-MODIFIED:20240312T115804Z
UID:30926-1710547200-1710719999@cfcnewholland.org
SUMMARY:Engaging Your Community With Confidence Seminar
DESCRIPTION:Join us for “Engaging Your Community With Confidence” at Christian Fellowship Church.  We will gather Saturday evening\, March 16th from 5:15PM to 8:15PM (pizza dinner included) as well as Sunday morning\, March 17th (during our normal service times).  We will have special guests Mark Farnham\, Jim Walton\, and members of Harvest USA speak to us on a myriad of subjects surrounding how we can defend our faith and live lives of influence for Christ in the midst of our culture. \nProposed Schedule (subject to change): \nSaturday Evening\, March 16th \n5:15 – 6:00 PM – Pizza Dinner FOR THOSE WHO SIGNED UP!\n6:00 – 7:00 PM – Mark Farnham presentation on “Strategies for Effective Apologetic Encounters”\n7:00 – 7:15 PM – Snack Break\n7:15 – 8:15 PM – Mark Farnham presentation on “How Eastern Religion has Infiltrated the West/Church” \nSunday Morning\, March 17th\n8:15\, 9:30\, & 10:45 AM – 3 Worship Services Mark Farnham on “Why We can be Confident in Engaging our Community”\n8:15 – 9:15 AM – Jim Walton ABF for adults on “Engaging the Next Generation”\n9:30 –10:30 AM – Harvest USA staff ABF for parents on “Raising Sexually-Faithful Kids”\n9:30 –10:30 AM – Jim Walton ABF for adults on “Engaging the Next Generation”\n9:30 –10:30 AM – Harvest USA staff ABF for youth/young adults on “Sex\, Lies and Culture”\n10:45 –11:45 AM – Jim Walton ABF for adults on “Engaging the Next Generation” \n 
URL:https://cfcnewholland.org/event/seminar
LOCATION:Christian Fellowship Church\, 758 Spruce Rd.\, New Holland\, PA\, 17557\, United States
CATEGORIES:family,men,women
ORGANIZER;CN="Church Office":MAILTO:cfc@cfcnewholland.org
END:VEVENT
END:VCALENDAR