BEGIN:VCALENDAR
VERSION:2.0
PRODID:-//Christian Fellowship Church - ECPv6.15.16//NONSGML v1.0//EN
CALSCALE:GREGORIAN
METHOD:PUBLISH
X-WR-CALNAME:Christian Fellowship Church
X-ORIGINAL-URL:https://cfcnewholland.org
X-WR-CALDESC:Events for Christian Fellowship Church
REFRESH-INTERVAL;VALUE=DURATION:PT1H
X-Robots-Tag:noindex
X-PUBLISHED-TTL:PT1H
BEGIN:VTIMEZONE
TZID:America/New_York
BEGIN:DAYLIGHT
TZOFFSETFROM:-0500
TZOFFSETTO:-0400
TZNAME:EDT
DTSTART:20220313T070000
END:DAYLIGHT
BEGIN:STANDARD
TZOFFSETFROM:-0400
TZOFFSETTO:-0500
TZNAME:EST
DTSTART:20221106T060000
END:STANDARD
BEGIN:DAYLIGHT
TZOFFSETFROM:-0500
TZOFFSETTO:-0400
TZNAME:EDT
DTSTART:20230312T070000
END:DAYLIGHT
BEGIN:STANDARD
TZOFFSETFROM:-0400
TZOFFSETTO:-0500
TZNAME:EST
DTSTART:20231105T060000
END:STANDARD
BEGIN:DAYLIGHT
TZOFFSETFROM:-0500
TZOFFSETTO:-0400
TZNAME:EDT
DTSTART:20240310T070000
END:DAYLIGHT
BEGIN:STANDARD
TZOFFSETFROM:-0400
TZOFFSETTO:-0500
TZNAME:EST
DTSTART:20241103T060000
END:STANDARD
END:VTIMEZONE
BEGIN:VEVENT
DTSTART;TZID=America/New_York:20230518T060000
DTEND;TZID=America/New_York:20230518T070000
DTSTAMP:20260422T214520
CREATED:20230413T151127Z
LAST-MODIFIED:20230509T141253Z
UID:29294-1684389600-1684393200@cfcnewholland.org
SUMMARY:Be A Godly Man - Men's Breakfast & Bible Study
DESCRIPTION:April 20\, May 4 & 18\, June 1 & 15\nJoin us at Yoder’s Restaurant in New Holland from 6AM – 7AM for a 5-part video series. \n“Be A Godly Man” by Joby Martin (donation for breakfast). \nGod has created men to have incredible strength\, but today’s culture has hijacked masculinity. In this Bible study series\, Joby Martin invites men to embrace God’s definition of masculinity & to step into His calling on their lives.
URL:https://cfcnewholland.org/event/be-a-godly-man-mens-breakfast-bible-study
LOCATION:Yoder’s Banquet Hall\, 14 S. Tower Rd.\, New Holland\, PA\, 17557\, United States
CATEGORIES:men
ORGANIZER;CN="Dave Horst":MAILTO:horst@cfcnewholland.org
END:VEVENT
END:VCALENDAR