BEGIN:VCALENDAR
VERSION:2.0
PRODID:-//Christian Fellowship Church - ECPv6.15.16//NONSGML v1.0//EN
CALSCALE:GREGORIAN
METHOD:PUBLISH
X-WR-CALNAME:Christian Fellowship Church
X-ORIGINAL-URL:https://cfcnewholland.org
X-WR-CALDESC:Events for Christian Fellowship Church
REFRESH-INTERVAL;VALUE=DURATION:PT1H
X-Robots-Tag:noindex
X-PUBLISHED-TTL:PT1H
BEGIN:VTIMEZONE
TZID:America/New_York
BEGIN:DAYLIGHT
TZOFFSETFROM:-0500
TZOFFSETTO:-0400
TZNAME:EDT
DTSTART:20220313T070000
END:DAYLIGHT
BEGIN:STANDARD
TZOFFSETFROM:-0400
TZOFFSETTO:-0500
TZNAME:EST
DTSTART:20221106T060000
END:STANDARD
BEGIN:DAYLIGHT
TZOFFSETFROM:-0500
TZOFFSETTO:-0400
TZNAME:EDT
DTSTART:20230312T070000
END:DAYLIGHT
BEGIN:STANDARD
TZOFFSETFROM:-0400
TZOFFSETTO:-0500
TZNAME:EST
DTSTART:20231105T060000
END:STANDARD
BEGIN:DAYLIGHT
TZOFFSETFROM:-0500
TZOFFSETTO:-0400
TZNAME:EDT
DTSTART:20240310T070000
END:DAYLIGHT
BEGIN:STANDARD
TZOFFSETFROM:-0400
TZOFFSETTO:-0500
TZNAME:EST
DTSTART:20241103T060000
END:STANDARD
END:VTIMEZONE
BEGIN:VEVENT
DTSTART;TZID=America/New_York:20230330T181500
DTEND;TZID=America/New_York:20230330T200000
DTSTAMP:20260423T005405
CREATED:20230119T001957Z
LAST-MODIFIED:20230322T145408Z
UID:28700-1680200100-1680206400@cfcnewholland.org
SUMMARY:Ladies Fellowship - Spring Fling
DESCRIPTION:Ladies Fellowship\n\nOur women’s ministry at CFC would like to invite you to a join us on Thursday\, March 30th\, at 6:15 pm for our “Spring Fling” Ladies Fellowship.\n\nSpeaker- Marilou Horst Shaffer “Who We Are in Christ!”\nDinner- Turkey or Chicken Salad Wraps\, Pasta Salad\, Potato Salad\, Veggie Tray with Dip\, Chips\, Cookies\nSpecial music\n\nThree ways to RSVP!\n1. Fill out this web form: https://cfcnewholland.org/ladiesfellowship\n2. Call (717)354-8428\n3. Email cfc@cfcnewholland.org\n\n\nChristian Fellowship Church\n758 Spruce Rd.\nNew Holland\, PA
URL:https://cfcnewholland.org/event/ladiesfellowship
LOCATION:Christian Fellowship Church\, 758 Spruce Rd.\, New Holland\, PA\, 17557\, United States
CATEGORIES:women
ORGANIZER;CN="Dave Horst":MAILTO:horst@cfcnewholland.org
END:VEVENT
END:VCALENDAR