BEGIN:VCALENDAR
VERSION:2.0
PRODID:-//Christian Fellowship Church - ECPv6.15.16//NONSGML v1.0//EN
CALSCALE:GREGORIAN
METHOD:PUBLISH
X-WR-CALNAME:Christian Fellowship Church
X-ORIGINAL-URL:https://cfcnewholland.org
X-WR-CALDESC:Events for Christian Fellowship Church
REFRESH-INTERVAL;VALUE=DURATION:PT1H
X-Robots-Tag:noindex
X-PUBLISHED-TTL:PT1H
BEGIN:VTIMEZONE
TZID:America/New_York
BEGIN:DAYLIGHT
TZOFFSETFROM:-0500
TZOFFSETTO:-0400
TZNAME:EDT
DTSTART:20210314T070000
END:DAYLIGHT
BEGIN:STANDARD
TZOFFSETFROM:-0400
TZOFFSETTO:-0500
TZNAME:EST
DTSTART:20211107T060000
END:STANDARD
BEGIN:DAYLIGHT
TZOFFSETFROM:-0500
TZOFFSETTO:-0400
TZNAME:EDT
DTSTART:20220313T070000
END:DAYLIGHT
BEGIN:STANDARD
TZOFFSETFROM:-0400
TZOFFSETTO:-0500
TZNAME:EST
DTSTART:20221106T060000
END:STANDARD
BEGIN:DAYLIGHT
TZOFFSETFROM:-0500
TZOFFSETTO:-0400
TZNAME:EDT
DTSTART:20230312T070000
END:DAYLIGHT
BEGIN:STANDARD
TZOFFSETFROM:-0400
TZOFFSETTO:-0500
TZNAME:EST
DTSTART:20231105T060000
END:STANDARD
END:VTIMEZONE
BEGIN:VEVENT
DTSTART;TZID=America/New_York:20221215T010000
DTEND;TZID=America/New_York:20221215T030000
DTSTAMP:20260423T075403
CREATED:20220916T004630Z
LAST-MODIFIED:20221208T003230Z
UID:27815-1671066000-1671073200@cfcnewholland.org
SUMMARY:Men's Breakfast & Bible Study
DESCRIPTION:Join us on Thursday\, December 15th from 6-7:00 am at Yoder’s Restaurant Banquet Room (please bring a donation for breakfast). Men of all ages are welcome to take part as we study\, Kingdom Heroes: Building a Strong Faith that Endures.  We’ll eat a great breakfast and then have a time of study. \nAre you living by Faith? Each of us must daily choose between giving in to the world’s pressure to trust in ourselves or yielding control of our lives to God. Tony Evans will lead us in learning from the heroes of the faith (Hebrews 11:1-2:3).
URL:https://cfcnewholland.org/event/mens-breakfast-bible-study-2
LOCATION:Yoder’s Banquet Hall\, 14 S. Tower Rd.\, New Holland\, PA\, 17557\, United States
ORGANIZER;CN="Dave Horst":MAILTO:horst@cfcnewholland.org
END:VEVENT
END:VCALENDAR